BEGIN:VCALENDAR
VERSION:2.0
PRODID:-//ChamberMaster//Event Calendar 2.0//EN
METHOD:PUBLISH
X-PUBLISHED-TTL:P3D
REFRESH-INTERVAL:P3D
CALSCALE:GREGORIAN
BEGIN:VEVENT
DTSTART:20250506T000000Z
DTEND:20250506T020000Z
X-MICROSOFT-CDO-ALLDAYEVENT:FALSE
SUMMARY:Draper City Cinco de Mayo Festival 2025
DESCRIPTION:May 5\, 2025 | 6:00-8:00 PM\n\nDraper Park (12500 S 1300 E)\n\nCome celebrate Cinco De Mayo with Draper City!  Th1is free festival has lots of activities and will be fun for the whole family.\n\n\n\nVendors and Non-Profits: No vendors or non-profits will be permitted at this event.\n\nEntertainers: Application will be posted closer to the event date.\n\nQuestions: Contact the Community Events Coordinator by email or call (801) 576-6319.\n\nInclement Weather:  The event will be held in snow\, rain\, or shine. However\, it may be cancelled or postponed due to severe weather. Check this webpage for current information or call (801) 232-9928.\n\nADA Accessibility: To request an accommodation due to a disability contact the Community Events Manager at (801) 576-6584 or by email. Requests should be made as soon as possible but at least five days prior to the event date.
X-ALT-DESC;FMTTYPE=text/html:<p id="isPasted"><span style="font-size:16px\;"><span style="font-family:arial\;">May 5\, 2025 |&nbsp\;</span></span><span style="font-size:16px\;"><span style="font-family:arial\;">6:00-8:00 PM</span></span><br />\n<span style="font-size:16px\;"><span style="font-family:arial\;">Draper Park (12500 S 1300 E)</span></span></p>\n\n<p><span style="font-family: arial\; font-size: 16px\;">Come celebrate Cinco De Mayo with Draper City!&nbsp\; Th1is free festival has lots of activities and will be fun for the whole family.</span><br />\n<br />\n<span style="font-size:16px\;"><span style="font-family:arial\;"><strong style="box-sizing: border-box\;">Vendors and Non-Profits:&nbsp\;</strong>No vendors or non-profits will be permitted at this event.</span></span></p>\n\n<p style="box-sizing: border-box\; margin: calc(var(--base-spacing) / 3) 0 var(--base-half-spacing)\; color: rgb(52\, 51\, 51)\; font-family: &quot\;Open Sans&quot\;\, sans-serif\; font-size: 17px\;"><span style="font-size:16px\;"><span style="font-family:arial\;"><strong style="box-sizing: border-box\;">Entertainers:&nbsp\;</strong>Application will be posted closer to the event date.</span></span></p>\n\n<p><span style="font-family:arial\;"><span style="font-size:16px\;">Questions:&nbsp\;Contact the Community Events Coordinator by&nbsp\;<a href="mailto:ivie.church@draperutah.gov">email</a>&nbsp\;or call&nbsp\;(801) 576-6319.</span></span></p>\n\n<p><span style="font-family:arial\;"><span style="font-size:16px\;">Inclement Weather:&nbsp\;&nbsp\;The event will be held in snow\, rain\, or shine. However\, it may be cancelled or postponed due to severe weather. Check this webpage for current information or call&nbsp\;(801) 232-9928.</span></span></p>\n\n<p><span style="font-family:arial\;"><span style="font-size:16px\;">ADA Accessibility:&nbsp\;To request an accommodation due to a disability contact the Community Events Manager at (801) 576-6584 or by&nbsp\;<a href="mailto:david.wilks@draperutah.gov">email</a>. Requests should be made as soon as possible but at least five days prior to the event date.</span></span></p>\n
LOCATION:Draper Park (12500 S 1300 E)
UID:e.1263.15166
SEQUENCE:3
DTSTAMP:20260423T030620Z
URL:https://business.southvalleychamber.com/events/details/draper-city-cinco-de-mayo-festival-2025-15166
END:VEVENT

END:VCALENDAR
