BEGIN:VCALENDAR
VERSION:2.0
PRODID:-//ChamberMaster//Event Calendar 2.0//EN
METHOD:PUBLISH
X-PUBLISHED-TTL:P3D
REFRESH-INTERVAL:P3D
CALSCALE:GREGORIAN
BEGIN:VEVENT
DTSTART:20240330T150000Z
DTEND:20240330T170000Z
X-MICROSOFT-CDO-ALLDAYEVENT:FALSE
SUMMARY:Draper City Easter Egg Hunt 2024
DESCRIPTION:Draper City Easter Egg Hunt\n\nSaturday\, March 30\, 2024 | 10:00 AM \n\nGalena Park (12500 S Vista Station BLVD)\n\nQuestions: Contact the Community Events Manager by email or call (801) 576-6584.\n\nVendors & Sponsors: This page will be updated with an application as we grow closer to the event. Food vendor spaces are limited and not all applications will be accepted. Applications are not accepted on a first-come\, first-served basis. Criteria for application acceptance are product type\, quality\, presentation\, appropriateness to the event\, pricing\, space availability\, and the demonstrated ability of an applicant to serve large numbers in a short amount of time.\n\nInclement Weather:  Event will be held snow\, rain\, or shine. However\, it may be cancelled or postponed due to severe weather. Check this webpage for current information or call (801) 576-6584.\n\nADA Accessibility: To request an accommodation due to a disability contact the Community Events Manager at (801) 576-6584 or by email. Requests should be made as soon as possible but at least five days before the event date.
X-ALT-DESC;FMTTYPE=text/html:<p color:="" font-size:="" font-weight:="" open=""><span style="font-size:16px\;"><span style="font-family:arial\;"><strong>Draper City Easter Egg Hunt</strong><br />\nSaturday\, March 30\, 2024 |&nbsp\;10:00 AM&nbsp\;<br />\nGalena Park (12500 S Vista Station BLVD)</span></span></p>\n\n<h3 color:="" font-size:="" font-weight:="" open=""><span style="font-size:16px\;"><span style="font-family:arial\;"><span style="box-sizing: border-box\; margin: 0px\; padding: 0px\; border: 0px\; font-weight: inherit\; font-style: inherit\; vertical-align: baseline\; outline: 0px\;"><span style="box-sizing: border-box\; font-weight: 700\;"><span style="box-sizing: border-box\; margin: 0px\; padding: 0px\; border: 0px\; font-weight: inherit\; font-style: inherit\; vertical-align: baseline\; outline: 0px\; color: rgb(40\, 50\, 78)\;">Questions:&nbsp\;</span></span>Contact the Community Events Manager by&nbsp\;<a href="mailto:david.wilks@draperutah.gov" style="box-sizing: border-box\; color: rgb(31\, 127\, 139)\;">email</a>&nbsp\;or call&nbsp\;</span>(801) 576-6584.</span></span></h3>\n\n<p font-size:="" open="" style="box-sizing: border-box\; margin-top: 0px\; margin-bottom: 1.4em\; border: 0px none\; color: rgb(34\, 34\, 35)\; font-family: "><span style="font-size:16px\;"><span style="font-family:arial\;"><span style="box-sizing: border-box\; font-weight: 700\;">Vendors &amp\; Sponsors:&nbsp\;</span><span id="isPasted" style="box-sizing: border-box\; margin: 0px\; padding: 0px\; border: 0px\; font-weight: inherit\; font-style: inherit\; vertical-align: baseline\; outline: 0px\; color: rgb(0\, 0\, 0)\;">This page will be updated with an application as we grow closer to the event.&nbsp\;</span><span style="box-sizing: border-box\; margin: 0px\; padding: 0px\; border: 0px\; font-weight: inherit\; font-style: inherit\; vertical-align: baseline\; outline: 0px\;">Food vendor spaces are limited and not all applications will be accepted. Applications are not accepted on a first-come\, first-served basis. Criteria for application acceptance are product type\, quality\, presentation\, appropriateness to the event\, pricing\, space availability\, and the demonstrated ability of an applicant to serve large numbers in a short amount of time.</span></span></span></p>\n\n<p font-size:="" open="" style="box-sizing: border-box\; margin-top: 0px\; margin-bottom: 1.4em\; border: 0px none\; color: rgb(34\, 34\, 35)\; font-family: "><span style="font-size:16px\;"><span style="font-family:arial\;"><span style="box-sizing: border-box\; margin: 0px\; padding: 0px\; border: 0px\; font-weight: inherit\; font-style: inherit\; vertical-align: baseline\; outline: 0px\;"><span style="box-sizing: border-box\; font-weight: 700\;"><span style="box-sizing: border-box\; margin: 0px\; padding: 0px\; border: 0px\; font-weight: inherit\; font-style: inherit\; vertical-align: baseline\; outline: 0px\; color: rgb(40\, 50\, 78)\;">Inclement Weather:&nbsp\;<span style="box-sizing: border-box\; margin: 0px\; padding: 0px\; border: 0px\; font-weight: 400\; vertical-align: baseline\; outline: 0px\; color: rgb(34\, 34\, 35)\;">&nbsp\;Event will be held snow\, rain\, or shine. However\, it may be cancelled or postponed due to severe weather. Check this webpage for current information or call</span></span></span><span style="box-sizing: border-box\; margin: 0px\; padding: 0px\; border: 0px\; font-weight: inherit\; font-style: inherit\; vertical-align: baseline\; outline: 0px\; color: rgb(40\, 50\, 78)\;"><span style="box-sizing: border-box\; margin: 0px\; padding: 0px\; border: 0px\; vertical-align: baseline\; outline: 0px\; color: rgb(34\, 34\, 35)\;">&nbsp\;</span></span></span>(801) 576-6584<span style="box-sizing: border-box\; margin: 0px\; padding: 0px\; border: 0px\; font-weight: inherit\; font-style: inherit\; vertical-align: baseline\; outline: 0px\;">.</span></span></span></p>\n\n<p font-size:="" open="" style="box-sizing: border-box\; margin-top: 0px\; margin-bottom: 1.4em\; border: 0px none\; color: rgb(34\, 34\, 35)\; font-family: "><span style="font-size:16px\;"><span style="font-family:arial\;"><span style="box-sizing: border-box\; margin: 0px\; padding: 0px\; border: 0px\; font-weight: inherit\; font-style: inherit\; vertical-align: baseline\; outline: 0px\;"><span style="box-sizing: border-box\; font-weight: 700\;"><span style="box-sizing: border-box\; margin: 0px\; padding: 0px\; border: 0px\; font-weight: inherit\; font-style: inherit\; vertical-align: baseline\; outline: 0px\; color: rgb(40\, 50\, 78)\;">ADA Accessibility:&nbsp\;</span></span>To request an accommodation due to a disability contact the Community Events Manager at (801) 576-6584 or by&nbsp\;<a href="mailto:david.wilks@draperutah.gov" style="box-sizing: border-box\; color: rgb(31\, 127\, 139)\;">email</a>. Requests should be made as soon as possible but at least five days before the event date.</span></span></span></p>\n
LOCATION:Galena Park at 12500 S Vista Station Blvd in Draper.
UID:e.1263.14772
SEQUENCE:3
DTSTAMP:20260420T112701Z
URL:https://business.southvalleychamber.com/events/details/draper-city-easter-egg-hunt-2024-14772
END:VEVENT

END:VCALENDAR
