BEGIN:VCALENDAR
VERSION:2.0
PRODID:-//ChamberMaster//Event Calendar 2.0//EN
METHOD:PUBLISH
X-PUBLISHED-TTL:P3D
REFRESH-INTERVAL:P3D
CALSCALE:GREGORIAN
BEGIN:VEVENT
DTSTART:20210305T150000Z
DTEND:20210305T170000Z
X-MICROSOFT-CDO-ALLDAYEVENT:FALSE
SUMMARY:First Fridays Face to Face Networking
DESCRIPTION:One of the best business networking events in the valley\, brings together business professionals from all around\, to network and create lasting relationships. Network with over 80-100+ business professionals at this Salt Lake Valley wide business to business networking group brought to you by American United Federal Credit Union! \n\n\n\nUse the link above to register for the event.
X-ALT-DESC;FMTTYPE=text/html:<span style="color: rgb(102\, 106\, 115)\; font-family: &quot\;Benton Sans&quot\;\, -apple-system\, BlinkMacSystemFont\, Roboto\, &quot\;Helvetica Neue&quot\;\, Helvetica\, Tahoma\, Arial\, sans-serif\; font-size: 15px\; letter-spacing: 0.5px\; background-color: rgb(255\, 255\, 255)\;">One of the best business networking events in the valley\, brings together business professionals from all around\, to network and create lasting relationships. Network with over 80-100+ business professionals at this Salt Lake Valley wide business to business networking group brought to you by American United Federal Credit Union!&nbsp\;</span><br />\n<br />\n<span style="color: rgb(51\, 51\, 51)\; font-family: sans-serif\, Arial\, Verdana\, &quot\;Trebuchet MS&quot\;\; font-size: 13px\; background-color: rgb(255\, 255\, 255)\;">Use the link above to register for the event.&nbsp\;</span>
LOCATION:Megaplex Theaters 2nd Floor - The District 3761 West Parkway Plaza Dr. South Jordan\, UT 84095
UID:e.1263.11587
SEQUENCE:3
DTSTAMP:20260424T222308Z
URL:https://business.southvalleychamber.com/events/details/first-fridays-face-to-face-networking-03-05-2021-11587
END:VEVENT

END:VCALENDAR
