BEGIN:VCALENDAR
VERSION:2.0
PRODID:-//ChamberMaster//Event Calendar 2.0//EN
METHOD:PUBLISH
X-PUBLISHED-TTL:P3D
REFRESH-INTERVAL:P3D
CALSCALE:GREGORIAN
BEGIN:VEVENT
DTSTART:20250111T180000Z
DTEND:20250111T200000Z
X-MICROSOFT-CDO-ALLDAYEVENT:FALSE
SUMMARY:Grand Opening - America First Credit Union Riverton
DESCRIPTION:Please join America First Credit Union as they welcome their newest branch to Riverton!\n\n\n\nTheir Community Celebration will be held on Saturday\, January 11th from 11 a.m. to 1 p.m. in Riverton (3583 West 12600 South) and will include prizes\, games\, music\, fun & food trucks.
X-ALT-DESC;FMTTYPE=text/html:<span style="font-size:16px\;"><span style="font-family:arial\;"><strong>Please join America First Credit Union as they welcome their newest branch to Riverton!</strong></span></span><br />\n<br />\n<span style="font-family: arial\; font-size: 16px\;">Their Community Celebration will be held on Saturday\, January 11th from 11 a.m. to 1 p.m. in Riverton&nbsp\;(3583 West 12600 South)&nbsp\;</span><span style="font-size:16px\;"><span style="font-family:arial\;">and will include prizes\, games\, music\, fun &amp\; food trucks.</span></span>
LOCATION:America First Credit Union 3583 W 12600 S\, Riverton
UID:e.1263.14923
SEQUENCE:3
DTSTAMP:20260419T192304Z
URL:https://business.southvalleychamber.com/events/details/grand-opening-america-first-credit-union-riverton-14923
END:VEVENT

END:VCALENDAR
