BEGIN:VCALENDAR
VERSION:2.0
PRODID:-//ChamberMaster//Event Calendar 2.0//EN
METHOD:PUBLISH
X-PUBLISHED-TTL:P3D
REFRESH-INTERVAL:P3D
CALSCALE:GREGORIAN
BEGIN:VEVENT
DTSTART:20250526T130000Z
DTEND:20250526T170000Z
X-MICROSOFT-CDO-ALLDAYEVENT:FALSE
SUMMARY:Herriman City's Memorial Day Breakfast & Ceremony 2025
DESCRIPTION:2025 Memorial Day Breakfast & Ceremony\n\nWe'll come together to memorialize\, honor\, and celebrate those who've lost their lives fighting for our freedoms with a community breakfast and ceremony Monday morning\, May 26th. The breakfast will be held at Main Street Park (5900 W 13000 S) from 7:00 - 11:00 AM. Meal may be purchased for $10 and includes pancakes\, ham\, and hashbrowns served with juice and coffee while supplies last.\n\n\nThe ceremony will once again be led by the American Legion Post 140 starting at 9:00 AM from the Herriman City Cemetery (12465 S Pioneer St). The ceremony will include patriotic music\, a speaker\, the reading of Herriman veteran's names\, a 21-gun salute\, and the playing of "Taps".
X-ALT-DESC;FMTTYPE=text/html:<h3 style="box-sizing: border-box\; font-family: Roboto\, sans-serif\; font-size: 20px\; line-height: 24px\; margin-top: 0px\; color: rgb(0\, 0\, 0)\;"><span style="font-size:16px\;"><span style="font-family:arial\;"><strong><u>2025 Memorial Day Breakfast &amp\; Ceremony</u></strong></span></span><br />\n<span style="font-family: arial\; font-size: 16px\;">We&#39\;ll come together to memorialize\, honor\, and celebrate those who&#39\;ve lost their lives fighting for our freedoms with a community breakfast and ceremony Monday morning\, May 26th. The breakfast will be held at Main Street Park (5900 W 13000 S) from 7:00 - 11:00 AM. Meal may be purchased for $10 and includes pancakes\, ham\, and hashbrowns served with juice and coffee&nbsp\;</span><i style="font-family: arial\; font-size: 16px\; box-sizing: border-box\;">while supplies last</i><span style="font-family: arial\; font-size: 16px\;">.</span></h3>\n\n<div class="edit" style="box-sizing: border-box\; color: rgb(0\, 0\, 0)\; font-family: Roboto\, sans-serif\; font-size: 18px\;">\n<p style="box-sizing: border-box\; line-height: 1.5\; overflow-wrap: break-word\; word-break: break-word\;"><span style="font-size:16px\;"><span style="font-family:arial\;">The ceremony will once again be led by the American Legion Post 140 starting at 9:00 AM from the Herriman City Cemetery (12465 S Pioneer St). The ceremony will include patriotic music\, a speaker\, the reading of Herriman veteran&#39\;s names\, a 21-gun salute\, and the playing of &quot\;Taps&quot\;.&nbsp\;</span></span></p>\n</div>\n
LOCATION:Breakfast: Herriman Main Street Park at 5900 W. 13000 S. Ceremony: Herriman City Cemetery at 12465 S Pioneer St.
UID:e.1263.15248
SEQUENCE:3
DTSTAMP:20260423T013131Z
URL:https://business.southvalleychamber.com/events/details/herriman-city-s-memorial-day-breakfast-ceremony-2025-15248
END:VEVENT

END:VCALENDAR
