BEGIN:VCALENDAR
VERSION:2.0
PRODID:-//ChamberMaster//Event Calendar 2.0//EN
METHOD:PUBLISH
X-PUBLISHED-TTL:P3D
REFRESH-INTERVAL:P3D
CALSCALE:GREGORIAN
BEGIN:VEVENT
DTSTART:20211020T173000Z
DTEND:20211020T190000Z
X-MICROSOFT-CDO-ALLDAYEVENT:FALSE
SUMMARY:In the Know w/ UDOT - Little Cottonwood Canyon Update
DESCRIPTION:UDOT has narrowed down the options for traffic control in Little Cottonwood Canyon to two: a gondola or road widening.  Come and hear Josh Van Jura\, the Project Manager from UDOT\, give details on both options.  This is an informational forum\, as the time for open comment closed on September 3rd.
X-ALT-DESC;FMTTYPE=text/html:UDOT has narrowed down the options for traffic control in Little Cottonwood Canyon to two: a gondola or road widening.&nbsp\; Come and hear Josh Van Jura\, the Project Manager from UDOT\, give details on both options.&nbsp\; This is an informational forum\, as the time for open comment closed on September 3rd.
LOCATION:South Valley Chamber 9800 South Monroe Street Sandy\, UT 84070 (Mountain America Credit Union Corporate Office)
UID:e.1263.13077
SEQUENCE:3
DTSTAMP:20260424T113623Z
URL:https://business.southvalleychamber.com/events/details/in-the-know-w-udot-little-cottonwood-canyon-update-13077
END:VEVENT

END:VCALENDAR
