BEGIN:VCALENDAR
VERSION:2.0
PRODID:-//ChamberMaster//Event Calendar 2.0//EN
METHOD:PUBLISH
X-PUBLISHED-TTL:P3D
REFRESH-INTERVAL:P3D
CALSCALE:GREGORIAN
BEGIN:VEVENT
DTSTART:20210325T150000Z
DTEND:20210325T220000Z
X-MICROSOFT-CDO-ALLDAYEVENT:FALSE
SUMMARY:Leadership South Valley
DESCRIPTION:Leadership South Valley is designed to provide business leaders with a deeper understanding of the critical and essential issues affecting communities in Salt Lake County. The program's mission is to develop and enhance personal and civic leadership and communication\, as well as support team cohesion\, collaboration and networking.\n\nThis once-a-month\, 10-month course will meet from 9 am to 4 pm at various locations across the South Valley region. Class size is limited to 20 individuals and class members are selected to represent a broad range of occupations\, industries and backgrounds.
X-ALT-DESC;FMTTYPE=text/html:<p style="outline: none\; margin: 1rem 0px\; color: rgb(34\, 34\, 34)\; font-family: Lato\, sans-serif\, -apple-system\, BlinkMacSystemFont\, &quot\;Segoe UI&quot\;\, Roboto\, &quot\;Helvetica Neue&quot\;\, Arial\, &quot\;Noto Sans&quot\;\, sans-serif\, &quot\;Apple Color Emoji&quot\;\, &quot\;Segoe UI Emoji&quot\;\, &quot\;Segoe UI Symbol&quot\;\, &quot\;Noto Color Emoji&quot\;\; font-size: 16px\;">Leadership South Valley is designed to provide business leaders with a deeper understanding of the critical and essential issues affecting communities in Salt Lake County. The program&rsquo\;s mission is to develop and enhance personal and civic leadership and communication\, as well as support team cohesion\, collaboration and networking.</p>\n\n<p style="outline: none\; margin: 1rem 0px 0px\; color: rgb(34\, 34\, 34)\; font-family: Lato\, sans-serif\, -apple-system\, BlinkMacSystemFont\, &quot\;Segoe UI&quot\;\, Roboto\, &quot\;Helvetica Neue&quot\;\, Arial\, &quot\;Noto Sans&quot\;\, sans-serif\, &quot\;Apple Color Emoji&quot\;\, &quot\;Segoe UI Emoji&quot\;\, &quot\;Segoe UI Symbol&quot\;\, &quot\;Noto Color Emoji&quot\;\; font-size: 16px\;">This once-a-month\, 10-month course will meet from 9&nbsp\;am to 4 pm at various locations across the South Valley region. Class size is limited to 20 individuals and class members are selected to represent a broad range of occupations\, industries and backgrounds.</p>\n
LOCATION:
UID:e.1263.12718
SEQUENCE:3
DTSTAMP:20260424T222043Z
URL:https://business.southvalleychamber.com/events/details/leadership-south-valley-03-25-2021-12718
END:VEVENT

END:VCALENDAR
