BEGIN:VCALENDAR
VERSION:2.0
PRODID:-//ChamberMaster//Event Calendar 2.0//EN
METHOD:PUBLISH
X-PUBLISHED-TTL:P3D
REFRESH-INTERVAL:P3D
CALSCALE:GREGORIAN
BEGIN:VEVENT
DTSTART:20240606T143000Z
DTEND:20240606T210000Z
X-MICROSOFT-CDO-ALLDAYEVENT:FALSE
SUMMARY:Leadership South Valley
DESCRIPTION:Leadership South Valley is a prestigious program that immerses mid-and upper-level business and community leaders in hands-on community\, economic and leadership training. This program is designed to give participants a behind-the-scenes view of Utah's growing economy through small-group interaction with the South Valley's top elected officials\, business leaders\, and community advocates. Over the course of the year\, participants will expand their network and learn how to be more effective and persuasive community and business leaders.
X-ALT-DESC;FMTTYPE=text/html:<p><span style="font-size:16px\;"><span style="font-family:arial\;"><span style="border: 0px\; font-variant-numeric: inherit\; font-variant-east-asian: inherit\; font-stretch: inherit\; line-height: inherit\; margin: 0px\; padding: 0px\; vertical-align: baseline\; color: rgb(36\, 36\, 36)\;"><span class="mark3box8lpij" data-markjs="true" data-ogab="" data-ogac="" data-ogsb="" data-ogsc="" style="border: 0px\; font-style: inherit\; font-variant-caps: inherit\; font-stretch: inherit\; line-height: inherit\; margin: 0px\; padding: 0px\; vertical-align: baseline\;">Leadership</span>&nbsp\;South Valley is a prestigious program that immerses mid-and upper-level business and community leaders in hands-on community\, economic and&nbsp\;<span class="mark3box8lpij" data-markjs="true" data-ogab="" data-ogac="" data-ogsb="" data-ogsc="" style="border: 0px\; font-style: inherit\; font-variant-caps: inherit\; font-stretch: inherit\; line-height: inherit\; margin: 0px\; padding: 0px\; vertical-align: baseline\;">leadership</span>&nbsp\;training. This program is designed to give participants a behind-the-scenes view of Utah&#39\;s growing economy through small-group interaction with the South Valley&#39\;s top elected officials\, business leaders\, and community advocates.&nbsp\;Over the course of the year\, participants will expand their network and learn how to be more effective and persuasive community and business leaders.</span></span></span></p>\n\n<div>&nbsp\;</div>\n
LOCATION:Locations will rotate monthly as we immerse our cohort in the sectors and industries that drive our economy.
UID:e.1263.13520
SEQUENCE:3
DTSTAMP:20260420T063338Z
URL:https://business.southvalleychamber.com/events/details/leadership-south-valley-06-06-2024-13520
END:VEVENT

END:VCALENDAR
