BEGIN:VCALENDAR
VERSION:2.0
PRODID:-//ChamberMaster//Event Calendar 2.0//EN
METHOD:PUBLISH
X-PUBLISHED-TTL:P3D
REFRESH-INTERVAL:P3D
CALSCALE:GREGORIAN
BEGIN:VEVENT
DTSTART:20240612T173000Z
DTEND:20240612T190000Z
X-MICROSOFT-CDO-ALLDAYEVENT:FALSE
SUMMARY:Let's Do Lunch-Salt Lake Bees Stadium| Downtown Daybreak Update
DESCRIPTION:Come for an insider update on the Salt Lake Bees new stadium and Downtown Daybreak from 11:30 AM - 1:00 PM. Special Guest\, Dale Murphy.\n\n\n\nInvite your family and stay for a free showing of The Lego Move @ 1:15PM.\n\n\n\nAll registrations will receive TWO Salt Lake Bees game tickets to the Thursday game on July 11\, 2024. Tickets include Hot Dogs\, All the Fixings\, Dessert\, and Sodas.
X-ALT-DESC;FMTTYPE=text/html:<p><span style="font-size: 16px\; color: rgba(0\, 0\, 0\, 0.847)\; font-family: Lato\, sans-serif\;">Come for an insider update on the Salt Lake Bees new stadium and Downtown Daybreak from 11:30 AM - 1:00 PM.&nbsp\;</span><strong style="color: rgba(0\, 0\, 0\, 0.847)\; font-family: Lato\, sans-serif\; font-size: 16px\;">Special Guest\, Dale Murphy.</strong><br />\n<br />\n<span style="font-size: 16px\; color: rgba(0\, 0\, 0\, 0.847)\; font-family: Lato\, sans-serif\;">Invite your family and stay for a <b>free</b> showing of The Lego Move @ 1:15PM.<br />\n<br />\nAll registrations will receive <strong>TWO</strong> Salt Lake Bees game tickets to the Thursday game on&nbsp\;July 11\, 2024. Tickets include Hot Dogs\, All the Fixings\, Dessert\, and Sodas.</span></p>\n
LOCATION:Megaplex Theatres at The District 3761 W Parkway Plaza Drive in South Jordan
UID:e.1263.14748
SEQUENCE:3
DTSTAMP:20260420T063637Z
URL:https://business.southvalleychamber.com/events/details/let-s-do-lunch-salt-lake-bees-stadium-downtown-daybreak-update-14748
END:VEVENT

END:VCALENDAR
