BEGIN:VCALENDAR
VERSION:2.0
PRODID:-//ChamberMaster//Event Calendar 2.0//EN
METHOD:PUBLISH
X-PUBLISHED-TTL:P3D
REFRESH-INTERVAL:P3D
CALSCALE:GREGORIAN
BEGIN:VEVENT
DTSTART:20240313T173000Z
DTEND:20240313T190000Z
X-MICROSOFT-CDO-ALLDAYEVENT:FALSE
SUMMARY:Meet the Member Lunch
DESCRIPTION:Join us for our Meet the Members Lunch\, where our members will have the opportunity to introduce themselves and their businesses to the Chamber! Up to 15 of our members will share a 2-minute pitch presentation and receive their official member certificate! Members will also be able to distribute flyers\, coupons\, giveaways and more.\n\n\n\nIf you are interested in pitching your business\, please contact Dana Reid dana@southvalleychamber.com. Registration does not enroll you to pitch.
X-ALT-DESC;FMTTYPE=text/html:<span style="font-size:16px\;"><span style="font-family:arial\;">Join us for our Meet the Members Lunch\, where our members will have the opportunity to introduce themselves and their businesses to the Chamber! Up to 15 of our members will share a 2-minute pitch presentation and receive their official member certificate! Members will also be able to distribute flyers\, coupons\, giveaways and more.<br />\n<br />\nIf you are interested in pitching your business\, please contact Dana Reid dana@southvalleychamber.com. Registration does not enroll you to pitch.</span></span>
LOCATION:South Valley Chamber Pinnacle Room\, 8th Floor 9800 S Monroe St Sandy\, UT 84070
UID:e.1263.13527
SEQUENCE:3
DTSTAMP:20260420T112051Z
URL:https://business.southvalleychamber.com/events/details/meet-the-member-lunch-13527
END:VEVENT

END:VCALENDAR
