BEGIN:VCALENDAR
VERSION:2.0
PRODID:-//ChamberMaster//Event Calendar 2.0//EN
METHOD:PUBLISH
X-PUBLISHED-TTL:P3D
REFRESH-INTERVAL:P3D
CALSCALE:GREGORIAN
BEGIN:VEVENT
DTSTART:20250522T143000Z
DTEND:20250522T160000Z
X-MICROSOFT-CDO-ALLDAYEVENT:FALSE
SUMMARY:Network Provider's: Innovation Impact Summit
DESCRIPTION:Event Details:\n\nWhen: Thursday\, May 22\, 2025\n\nSession Time: 8:30 a.m. - 10:00 a.m.\n\nWhere: Lehi Broadbent Room\n\n128 N 100 E Lehi\, 84043\n\nThere is a continental breakfast and networking at the beginning and then a presentation by three executives.\n\n\n\n\n\n\n\n\n\nJay Hill (CEO of NPI) will speak about Cybersecurity\, Jackie Colt (Owner of Complete Healthcare Business Consulting) will speak about leveraging technology to get ahead as a business owner\, Julie Bushman (Finance/Operations Director of Teton Sports) will speak about boosting profitability by balancing AI tools with human oversight.\n\nDuring This Seminar You'll Discover:\n\n\n	How to Harness AI (Without Losing the Human Touch)   Learn practical ways to integrate AI into your bookkeeping and daily operations without losing oversight or control and how to balance automation with smart human decision-making to increase profits.\n	Smart Tech Strategies to Streamline Your Business   Discover the tools and systems successful businesses are using to save time\, cut costs\, and operate more efficiently whether your team is remote\, hybrid\, or fully in-office.\n	Why Cybersecurity Still Matters (More Than Ever)   Get up to speed on the evolving risks facing businesses today and the key protections you need in place now to stay secure. You'll also hear why this isn't just an IT problem it's a business-critical issue tied to your bottom line.\n	Your Exclusive Opportunity to Learn\, Connect\, and Grow   Enjoy a complimentary continental breakfast\, make valuable connections with other local business leaders\, and walk away with actionable strategies you can use right away.\n\n\n\nREGISTER FREE: https://www.networkprovidersinc.com/seminar/
X-ALT-DESC;FMTTYPE=text/html:<div>\n<div>\n<div>\n<div>\n<div>\n<div>\n<p><span style="font-family:inherit\; font-size:14pt"><strong>Event Details:</strong></span></p>\n\n<p><strong>When:</strong>&nbsp\;Thursday\, May 22\, 2025<br />\n<strong>Session Time:&nbsp\;</strong>8:30 a.m. - 10:00 a.m.<br />\n<strong>Where:&nbsp\;</strong>Lehi Broadbent Room<br />\n128 N 100 E Lehi\, 84043</p>\n\n<p>There is a continental breakfast and networking at the beginning and then a presentation by three executives.</p>\n</div>\n</div>\n</div>\n</div>\n</div>\n</div>\n\n<div>\n<div>\n<p>Jay Hill (CEO of NPI) will speak about Cybersecurity\, Jackie Colt (Owner of Complete Healthcare Business Consulting) will speak about leveraging technology to get ahead as a business owner\, Julie Bushman (Finance/Operations Director of Teton Sports) will speak about boosting profitability by balancing AI tools with human oversight.</p>\n\n<p><span style="font-family:inherit\; font-size:14pt"><strong>During This Seminar You&rsquo\;ll Discover:</strong></span></p>\n\n<ul>\n	<li><strong>How to Harness AI (Without Losing the Human Touch)</strong>&nbsp\;&ndash\; Learn practical ways to integrate AI into your bookkeeping and daily operations without losing oversight or control&mdash\;and how to balance automation with smart human decision-making to increase profits.</li>\n	<li><strong>Smart Tech Strategies to Streamline Your Business</strong>&nbsp\;&ndash\; Discover the tools and systems successful businesses are using to save time\, cut costs\, and operate more efficiently&mdash\;whether your team is remote\, hybrid\, or fully in-office.</li>\n	<li><strong>Why Cybersecurity Still Matters (More Than Ever)</strong>&nbsp\;&ndash\; Get up to speed on the evolving risks facing businesses today and the key protections you need in place now to stay secure. You&rsquo\;ll also hear why this isn&rsquo\;t just an IT problem&mdash\;it&#39\;s a business-critical issue tied to your bottom line.</li>\n	<li><strong>Your Exclusive Opportunity to Learn\, Connect\, and Grow</strong>&nbsp\;&ndash\; Enjoy a complimentary continental breakfast\, make valuable connections with other local business leaders\, and walk away with actionable strategies you can use right away.</li>\n</ul>\n<br />\nREGISTER FREE:&nbsp\;https://www.networkprovidersinc.com/seminar/</div>\n</div>\n
LOCATION:Where: Lehi Broadbent Room 128 N 100 E Lehi\, 84043
UID:e.1263.15203
SEQUENCE:3
DTSTAMP:20260423T012433Z
URL:https://business.southvalleychamber.com/events/details/network-provider-s-innovation-impact-summit-15203
END:VEVENT

END:VCALENDAR
