BEGIN:VCALENDAR
VERSION:2.0
PRODID:-//ChamberMaster//Event Calendar 2.0//EN
METHOD:PUBLISH
X-PUBLISHED-TTL:P3D
REFRESH-INTERVAL:P3D
CALSCALE:GREGORIAN
BEGIN:VEVENT
DTSTART:20241107T230000Z
DTEND:20241108T010000Z
X-MICROSOFT-CDO-ALLDAYEVENT:FALSE
SUMMARY:Open House @ Holiday Inn South Jordan
DESCRIPTION:Please join us for an Open House to showcase our property and what we have to offer! Appetizers and Tours will be given throughout the event! Please come and support us!
X-ALT-DESC;FMTTYPE=text/html:Please join us for an Open House to showcase our property and what we have to offer! Appetizers and Tours will be given throughout the event! Please come and support us!
LOCATION:Holiday Inn & Suites 10499 South Jordan Gateway\, South Jordan UT 84095
UID:e.1263.14864
SEQUENCE:3
DTSTAMP:20260420T001009Z
URL:https://business.southvalleychamber.com/events/details/open-house-holiday-inn-south-jordan-14864
END:VEVENT

END:VCALENDAR
