BEGIN:VCALENDAR
VERSION:2.0
PRODID:-//ChamberMaster//Event Calendar 2.0//EN
METHOD:PUBLISH
X-PUBLISHED-TTL:P3D
REFRESH-INTERVAL:P3D
CALSCALE:GREGORIAN
BEGIN:VEVENT
DTSTART:20240620T190000Z
DTEND:20240620T200000Z
X-MICROSOFT-CDO-ALLDAYEVENT:FALSE
SUMMARY:Ribbon Cutting - Benjamin Franklin Plumbing
DESCRIPTION:Please join us for a ribbon cutting and welcome Benjamin Franklin Plumbing to Draper on Thursday\, June 20th at 1:00 PM!\n\n \nAbout Benjamin Franklin Plumbing:\n\nBenjamin Franklin Plumbing provides residential plumbing service as well as light commercial plumbing services. We pride ourselves in providing a high level of customer service and back that up with a 100% satisfaction guarantee that we put in writing! We are locally owned and operated\, please call us for your plumbing needs.
X-ALT-DESC;FMTTYPE=text/html:<span style="font-size: 16px\;"><span style="font-family: arial\;">Please join us for a ribbon cutting and welcome <strong>Benjamin Franklin Plumbing</strong>&nbsp\;to <strong>Draper&nbsp\;</strong>on Thursday\, June 20th at 1:00 PM!</span></span><br />\n&nbsp\;\n<p><strong style="font-family: arial\; font-size: 16px\;">About Benjamin Franklin Plumbing:</strong><br />\n<span style="font-size:16px\;"><span style="font-family:arial\;">Benjamin Franklin Plumbing provides residential plumbing service as well as light commercial plumbing services. We pride ourselves in providing a high level of customer service and back that up with a 100% satisfaction guarantee that we put in writing! We are locally owned and operated\, please call us for your plumbing needs.</span></span></p>\n
LOCATION:Benjamin Franklin Plumbing 12608 S 125 W Suite E in Draper
UID:e.1263.14817
SEQUENCE:3
DTSTAMP:20260420T063310Z
URL:https://business.southvalleychamber.com/events/details/ribbon-cutting-benjamin-franklin-plumbing-14817
END:VEVENT

END:VCALENDAR
