BEGIN:VCALENDAR
VERSION:2.0
PRODID:-//ChamberMaster//Event Calendar 2.0//EN
METHOD:PUBLISH
X-PUBLISHED-TTL:P3D
REFRESH-INTERVAL:P3D
CALSCALE:GREGORIAN
BEGIN:VEVENT
DTSTART:20241122T180000Z
DTEND:20241122T190000Z
X-MICROSOFT-CDO-ALLDAYEVENT:FALSE
SUMMARY:Ribbon Cutting - Evolve Wellness Collective
DESCRIPTION:Please join us for a ribbon cutting and welcome Evolve Wellness Collective to South Jordan on Friday\, November 22nd at 11:00 AM!\n\n \nAbout Evolve Wellness Collective:\n\nEvolve is a collective of wellness services and products to support you on your journey to feeling like your best self. Their mission is to create a safe space for you to come reset your nervous system\, teach your body and soul that you are safe\, held and supported in your path of evolution. To Experience\, Elevate and Empower our Community. Evolve aims to ensure you feel valued and loved from the moment you step into Evolve.
X-ALT-DESC;FMTTYPE=text/html:<span style="font-size: 16px\;"><span style="font-family: arial\;">Please join us for a ribbon cutting and welcome&nbsp\;</span></span><b style="font-family: arial\; font-size: 16px\;">Evolve Wellness Collective&nbsp\;</b><span style="font-size: 16px\;"><span style="font-family: arial\;">to <strong>South Jordan&nbsp\;</strong>on Friday\, November 22nd at 11:00 AM!</span></span><br />\n&nbsp\;\n<p><b style="font-family: arial\; font-size: 16px\;">About Evolve Wellness Collective</b><strong><strong style="font-family: arial\; font-size: 16px\;">:</strong></strong><br />\n<span style="font-size:16px\;"><span style="font-family:arial\;">Evolve is a collective of wellness services and products to support you on your journey to feeling like your best self. Their mission is to create a safe space for you to come reset your nervous system\, teach your body and soul that you are safe\, held and supported in your path of evolution. To Experience\, Elevate and Empower our Community. Evolve aims to ensure you feel valued and loved from the moment you step into Evolve.&nbsp\;</span></span></p>\n
LOCATION:Evolve Wellness Collective 10382 S Jordan Gateway\, Suite 150 in South Jordan
UID:e.1263.14875
SEQUENCE:3
DTSTAMP:20260419T223455Z
URL:https://business.southvalleychamber.com/events/details/ribbon-cutting-evolve-wellness-collective-14875
END:VEVENT

END:VCALENDAR
