BEGIN:VCALENDAR
VERSION:2.0
PRODID:-//ChamberMaster//Event Calendar 2.0//EN
METHOD:PUBLISH
X-PUBLISHED-TTL:P3D
REFRESH-INTERVAL:P3D
CALSCALE:GREGORIAN
BEGIN:VEVENT
DTSTART:20250508T160000Z
DTEND:20250508T170000Z
X-MICROSOFT-CDO-ALLDAYEVENT:FALSE
SUMMARY:Ribbon Cutting - Freddy's Frozen Custard & Steakburgers
DESCRIPTION:Please join us for a Ribbon Cutting Celebration to welcome Freddy's Frozen Custard & Steakburgers to their newest location in Riverton on Thursday\, May 8th at 10 AM.\n\n \nAbout Freddy's Frozen Custard & Steakburgers:\n\nFreddy's Frozen Custard & Steakburgers  was co-founded in 2002 by brothers Bill and Randy Simon with their friend and business partner\, Scott Redler. It was named in honor of Bill and Randy's father. Together\, they built a brand focused on quality\, hospitality\, cleanliness and timeless traditions.\n\n\n\nToday\, our Freddy's Family creates fresh\, made-to-order\, craveable food\, served to our guests with genuine hospitality in a fun\, inclusive environment.
X-ALT-DESC;FMTTYPE=text/html:<span style="font-size:16px\;"><span style="font-family:arial\;">Please join us for a Ribbon Cutting Celebration to welcome <strong>Freddy&#39\;s Frozen Custard &amp\; Steakburgers&nbsp\;</strong>to<b>&nbsp\;their newest location </b><strong>in&nbsp\;Riverton on Thursday\, May 8th at 10 AM.</strong></span></span><br />\n&nbsp\;\n<p><span style="font-size:16px\;"><span style="font-family:arial\;"><strong style="font-family: arial\; font-size: 16px\;">About </strong><strong>Freddy&#39\;s Frozen Custard &amp\; Steakburgers</strong></span></span><strong style="font-family: arial\; font-size: 16px\;">:</strong></p>\n\n<p --text-header-lg30:="" --text-header-lg:="" --text-header-md:="" --text-header-sm:="" --text-header-xl:="" --text-header-xs:="" --text-header-xxl:="" --text-header-xxs:="" 0px="" 24px="" border:="" color:="" font-feature-settings:="" font-kerning:="" font-optical-sizing:="" font-size-adjust:="" font-variation-settings:="" gotham="" margin:="" padding:="" style="box-sizing: inherit\; font-variant-numeric: inherit\; font-variant-east-asian: inherit\; font-variant-alternates: inherit\; font-variant-position: inherit\; font-variant-emoji: inherit\; font-stretch: inherit\; font-size: medium\; line-height: 1.5\; font-family: " text-align:="">Freddy&rsquo\;s Frozen Custard &amp\; Steakburgers&reg\; was co-founded in 2002 by brothers Bill and Randy Simon with their friend and business partner\, Scott Redler. It was named in honor of Bill and Randy&rsquo\;s father. Together\, they built a brand focused on quality\, hospitality\, cleanliness and timeless traditions.<br />\n<br />\nToday\, our Freddy&rsquo\;s Family creates fresh\, made-to-order\, craveable food\, served to our guests with genuine hospitality in a fun\, inclusive environment.</p>\n
LOCATION:Freddy's Frozen Custard & Steakburgers - New Location at 13331 South Old Liberty Way in Riverton.
UID:e.1263.15175
SEQUENCE:3
DTSTAMP:20260423T013212Z
URL:https://business.southvalleychamber.com/events/details/ribbon-cutting-freddy-s-frozen-custard-steakburgers-15175
END:VEVENT

END:VCALENDAR
