BEGIN:VCALENDAR
VERSION:2.0
PRODID:-//ChamberMaster//Event Calendar 2.0//EN
METHOD:PUBLISH
X-PUBLISHED-TTL:P3D
REFRESH-INTERVAL:P3D
CALSCALE:GREGORIAN
BEGIN:VEVENT
DTSTART:20250502T170000Z
DTEND:20250502T180000Z
X-MICROSOFT-CDO-ALLDAYEVENT:FALSE
SUMMARY:Ribbon Cutting - Fullmer Legacy Foundation
DESCRIPTION:Please join us for a Ribbon Cutting Celebration to welcome Fullmer Legacy Center to their new home in South Jordan on Friday\, May 2nd at 11 AM.\n\n\n\nThis will be a great event with some special guests on hand to celebrate the Fullmer Boxing Family and all they have done for the youth in our area for decades. We hope to see you there!\n\n \nAbout Fullmer Legacy Center:\n\nFor over 40 years\, the Fullmer Brothers' Boxing Gym has served youth in the community through fitness classes\, competition training\, and life coaching all at no cost. The Fullmer Legacy Foundation exists to preserve the brothers' commitment to our youth\, instilling in them the self esteem that good communities are built upon.
X-ALT-DESC;FMTTYPE=text/html:<span style="font-size: 16px\;"><span style="font-family: arial\;">Please join us for a Ribbon Cutting Celebration to welcome <b>Fullmer Legacy Center&nbsp\;</b>to<b>&nbsp\;</b>their new home in <b>South Jordan&nbsp\;</b>on <strong>Friday\, May 2nd at 11 AM.</strong></span></span><br />\n<br />\n<span style="font-size:16px\;"><span style="font-family:arial\;">This will be a great event with some special guests on hand to celebrate the Fullmer Boxing Family and all they have done for the youth in our area for decades. We hope to see you there!</span></span><br />\n&nbsp\;\n<p><strong style="font-family: arial\; font-size: 16px\;">About </strong><b style="font-family: arial\; font-size: 16px\;">Fullmer Legacy Center</b><strong style="font-family: arial\; font-size: 16px\;">:</strong><br />\n<span style="font-size:16px\;"><span style="font-family:arial\;">For over 40 years\, the Fullmer Brothers&rsquo\; Boxing Gym has served youth in the community through fitness classes\, competition training\, and life coaching&mdash\;all at no cost. The Fullmer Legacy Foundation exists to preserve the brothers&rsquo\; commitment to our youth\, instilling in them the self esteem that good communities are built upon.</span></span><br />\n&nbsp\;</p>\n
LOCATION:Fullmer Legacy Center - Located at 10960 South Park Road in South Jordan.
UID:e.1263.15170
SEQUENCE:3
DTSTAMP:20260423T025508Z
URL:https://business.southvalleychamber.com/events/details/ribbon-cutting-fullmer-legacy-foundation-15170
END:VEVENT

END:VCALENDAR
