BEGIN:VCALENDAR
VERSION:2.0
PRODID:-//ChamberMaster//Event Calendar 2.0//EN
METHOD:PUBLISH
X-PUBLISHED-TTL:P3D
REFRESH-INTERVAL:P3D
CALSCALE:GREGORIAN
BEGIN:VEVENT
DTSTART:20250507T180000Z
DTEND:20250507T190000Z
X-MICROSOFT-CDO-ALLDAYEVENT:FALSE
SUMMARY:Ribbon Cutting - Go Pave Utah
DESCRIPTION:Please join us for a Ribbon Cutting Celebration to welcome Go Pave Utah to their new location in South Salt Lake on Wednesday\, May 7th at Noon.\n\n \nAbout Go Pave Utah:\n\nGo Pave Utah Opened in March 1996 in Salt Lake City\, Utah. We offer Asphalt Patching\, Paving\, Seal Coating\, Crack Seal\, Parking lot Paint Striping\, Concrete curb and gutters\, Concrete Sidewalks\, Special needs Ramps\, Grading\, Sump and Drainage installation. We are a Local Family owned company\, Insured\, Bonded and Licensed. Over the years Go Pave Utah has grown and expanded into covering a broad range of the construction process. Quality craftsmanship and customer service are at the core of our values. Our goal is to consistently exceed our customers expectations of a project well done. Thank you for your interest in us and we look forward to serving you.
X-ALT-DESC;FMTTYPE=text/html:<span style="font-size: 16px\;"><span style="font-family: arial\;">Please join us for a Ribbon Cutting Celebration to welcome <b>Go Pave Utah&nbsp\;</b>to<b>&nbsp\;their new location </b>in<b>&nbsp\;</b>South Salt Lake on <strong>Wednesday\, May 7th at Noon.</strong></span></span><br />\n&nbsp\;\n<p><strong style="font-family: arial\; font-size: 16px\;">About </strong><b style="font-family: arial\; font-size: 16px\;">Go Pave Utah</b><strong><strong style="font-family: arial\; font-size: 16px\;">:</strong></strong><br />\n<span style="font-size:16px\;"><span style="font-family:arial\;"><span style="color: rgb(0\, 0\, 0)\;">Go Pave Utah Opened in March 1996 in Salt Lake City\, Utah. We offer Asphalt Patching\, Paving\, Seal Coating\, Crack Seal\, Parking lot Paint Striping\, Concrete curb and gutters\, Concrete Sidewalks\, Special needs Ramps\, Grading\, Sump and Drainage installation. We are a Local Family owned company\, Insured\, Bonded and Licensed. Over the years Go Pave Utah has grown and expanded into covering a broad range of the construction process. Quality craftsmanship and customer service are at the core of our values. Our goal is to consistently exceed our customers expectations of a project well done. Thank you for your interest in us and we look forward to serving you.</span></span></span></p>\n
LOCATION:Go Pave Utah - New Location at 2575 S 900 W in South Salt Lake.
UID:e.1263.15169
SEQUENCE:3
DTSTAMP:20260423T025605Z
URL:https://business.southvalleychamber.com/events/details/ribbon-cutting-go-pave-utah-15169
END:VEVENT

END:VCALENDAR
