BEGIN:VCALENDAR
VERSION:2.0
PRODID:-//ChamberMaster//Event Calendar 2.0//EN
METHOD:PUBLISH
X-PUBLISHED-TTL:P3D
REFRESH-INTERVAL:P3D
CALSCALE:GREGORIAN
BEGIN:VEVENT
DTSTART:20250508T190000Z
DTEND:20250508T200000Z
X-MICROSOFT-CDO-ALLDAYEVENT:FALSE
SUMMARY:Ribbon Cutting - Hawaii Fluid Art
DESCRIPTION:Please join us for a Ribbon Cutting to celebrate the opening of Hawaii Fluid Art in South Jordan on Thursday\, May 8th at 1 PM.\n\n \nAbout Hawaii Fluid Art South Jordan:\n\nHawaii Fluid Art is an art studio center in South Jordan\, Utah\, dedicated to providing artists of all ability levels the opportunity to learn and experience new art techniques in a semi-private\, safe\, professional setting through our varied classes and experiences. A fun and creative activity for all ages!
X-ALT-DESC;FMTTYPE=text/html:<span style="font-size: 16px\;"><span style="font-family: arial\;">Please join us for a Ribbon Cutting to celebrate the opening of&nbsp\;<b>Hawaii Fluid Art </b><strong>in&nbsp\;South Jordan&nbsp\;</strong>on <strong>Thursday\, May 8th at 1 PM.</strong></span></span><br />\n&nbsp\;\n<p><strong style="font-family: arial\; font-size: 16px\;">About </strong><b style="font-family: arial\; font-size: 16px\;">Hawaii Fluid Art South Jordan</b><strong><strong style="font-family: arial\; font-size: 16px\;">:</strong></strong><br />\n<span style="font-size:16px\;"><span style="font-family:arial\;"><b style="font-family: arial\; font-size: 16px\;">Hawaii Fluid Art&nbsp\;</b>is<span style="background:white\;"><span style="color:black\;">&nbsp\;an art studio center in South Jordan\, Utah\,&nbsp\;dedicated to providing artists of all ability levels the opportunity to learn and experience new art techniques in a semi-private\, safe\, professional setting through our varied classes and experiences. A fun and creative activity for all ages!</span></span></span></span></p>\n
LOCATION:Hawaii Fluid Art - Located in The District Shopping Center at 11560 S District Main Drive in South Jordan.
UID:e.1263.15186
SEQUENCE:3
DTSTAMP:20260423T012835Z
URL:https://business.southvalleychamber.com/events/details/ribbon-cutting-hawaii-fluid-art-15186
END:VEVENT

END:VCALENDAR
