BEGIN:VCALENDAR
VERSION:2.0
PRODID:-//ChamberMaster//Event Calendar 2.0//EN
METHOD:PUBLISH
X-PUBLISHED-TTL:P3D
REFRESH-INTERVAL:P3D
CALSCALE:GREGORIAN
BEGIN:VEVENT
DTSTART:20250516T153000Z
DTEND:20250516T163000Z
X-MICROSOFT-CDO-ALLDAYEVENT:FALSE
SUMMARY:Ribbon Cutting - Heritage Wealth Management
DESCRIPTION:Please join us for a Ribbon Cutting Celebration to welcome Heritage Wealth Management to Sandy on Friday\, May 16th at 9:30 AM.\n\n \nAbout Heritage Wealth Management:\n\n\n\nOUR MISSION\n\n"We help great people make good financial decisions to guide them to a happy & successful retirement."\n\n\n\nThis is the mission of Heritage Wealth Management. We welcome you and invite you to learn more about who we are and what we do for the families of Utah!\n\n\n\nOur company was founded in 2004 to help Utah residents plan for their retirement. We are now a multigenerational team filled with family and experienced professionals\, ready to hear your story and see how we can help you on your journey.\n\nWhether planning ahead and working to create wealth\, preserving wealth and beginning the transition to retirement\, or maintaining your retirement lifestyle through income planning\, we are here to help put your plan in place.
X-ALT-DESC;FMTTYPE=text/html:<span style="font-size: 16px\;"><span style="font-family: arial\;">Please join us for a Ribbon Cutting Celebration to welcome <strong>Heritage Wealth Management&nbsp\;to Sandy&nbsp\;on Friday\, May 16th at 9:30 AM.</strong></span></span><br />\n&nbsp\;\n<p><strong style="font-family: arial\; font-size: 16px\;">About </strong><b style="font-family: arial\; font-size: 16px\;">Heritage Wealth Management</b><strong><strong style="font-family: arial\; font-size: 16px\;">:</strong></strong><br />\n<br />\n<span style="font-size:16px\;"><span style="font-family:arial\;"><strong><span style="color:black\;">OUR MISSION</span></strong><br />\n<strong><span style="color:black\;">&ldquo\;We help great people make good financial decisions to guide them to a happy &amp\; successful retirement.&rdquo\;</span></strong><br />\n<br />\n<span style="color:black\;">This is the mission of Heritage&nbsp\;Wealth Management. We welcome you and invite you to learn more about who we are and what we do for the families of Utah!</span><br />\n<br />\n<span style="color:black\;">Our company was founded in 2004 to help Utah residents plan for their retirement. We are now a multigenerational team filled with family and experienced professionals\, ready to hear your story and see how we can help you on your journey.</span><br />\n<span style="color:black\;">Whether planning ahead and working to create wealth\, preserving wealth and beginning the transition to retirement\, or maintaining your retirement lifestyle through income planning\, we are here to help put your plan in place.</span></span></span></p>\n
LOCATION:Heritage Wealth Management - Located at 11075 South State Street\, Suite #9A in Sandy.
UID:e.1263.15206
SEQUENCE:3
DTSTAMP:20260423T012945Z
URL:https://business.southvalleychamber.com/events/details/ribbon-cutting-heritage-wealth-management-15206
END:VEVENT

END:VCALENDAR
