BEGIN:VCALENDAR
VERSION:2.0
PRODID:-//ChamberMaster//Event Calendar 2.0//EN
METHOD:PUBLISH
X-PUBLISHED-TTL:P3D
REFRESH-INTERVAL:P3D
CALSCALE:GREGORIAN
BEGIN:VEVENT
DTSTART:20240626T180000Z
DTEND:20240626T184500Z
X-MICROSOFT-CDO-ALLDAYEVENT:FALSE
SUMMARY:Ribbon Cutting - Only Crowns
DESCRIPTION:Please join us for a ribbon cutting and welcome Only Crowns to Sandy on Wednesday\, June 26th at Noon!\n\n \nAbout Only Crowns:\n\nAt Only Crowns\, we have structured our business to be able to provide patients with the ability to receive top-of-the-line care at a significantly discounted price with the added security of knowing that your crown not only looks great\, but is guaranteed for the rest of your life.
X-ALT-DESC;FMTTYPE=text/html:<br />\n<span style="font-size: 16px\;"><span style="font-family: arial\;">Please join us for a ribbon cutting and welcome <b>Only Crowns&nbsp\;</b><strong>to Sandy&nbsp\;</strong>on Wednesday\, June 26th at Noon!</span></span><br />\n&nbsp\;\n<p><strong style="font-family: arial\; font-size: 16px\;">About Only Crowns:</strong><br />\n<span style="font-family: arial\; font-size: 16px\;">At Only Crowns\, we have structured our business to be able to provide patients with the ability to receive top-of-the-line care at a significantly discounted price with the added security of knowing that your crown not only looks great\, but is guaranteed for the rest of your life.</span></p>\n
LOCATION:Only Crowns 11340 S State Street in Sandy
UID:e.1263.14832
SEQUENCE:3
DTSTAMP:20260420T063055Z
URL:https://business.southvalleychamber.com/events/details/ribbon-cutting-only-crowns-14832
END:VEVENT

END:VCALENDAR
