BEGIN:VCALENDAR
VERSION:2.0
PRODID:-//ChamberMaster//Event Calendar 2.0//EN
METHOD:PUBLISH
X-PUBLISHED-TTL:P3D
REFRESH-INTERVAL:P3D
CALSCALE:GREGORIAN
BEGIN:VEVENT
DTSTART:20241120T220000Z
DTEND:20241120T230000Z
X-MICROSOFT-CDO-ALLDAYEVENT:FALSE
SUMMARY:Ribbon Cutting - Purple Duck
DESCRIPTION:Please join us for a ribbon cutting to welcome Purple Duck to Riverton on Wednesday\, November 20th at 3:00 PM!\n\n \nAbout Purple Duck:\n\nDriven by a passion for purity and well-being\, Purple Duck is founded on the belief that personal and home fragrances should be free from harmful chemicals. Its mission is to craft exquisite\, natural\, and chemical-free fragrances that nurture the senses without compromising health\, and is dedicated to using only the finest botanical ingredients\, ensuring that every product offered is as safe and beneficial as it is beautiful and aromatic.
X-ALT-DESC;FMTTYPE=text/html:<span style="font-size: 16px\;"><span style="font-family: arial\;">Please join us for a ribbon cutting to welcome&nbsp\;<b>Purple Duck&nbsp\;</b><strong>to Riverton&nbsp\;</strong>on Wednesday\, November 20th at 3:00 PM!</span></span><br />\n&nbsp\;\n<p><strong style="font-family: arial\; font-size: 16px\;">About&nbsp\;</strong><b style="font-family: arial\; font-size: 16px\;">Purple Duck</b><strong style="font-family: arial\; font-size: 16px\;">:</strong><br />\n<span style="font-family: arial\; font-size: 16px\;">Driven by a passion for purity and well-being\, Purple Duck is founded on the belief that personal and home fragrances should be free from harmful chemicals. Its mission is to craft exquisite\, natural\, and chemical-free fragrances that nurture the senses without compromising health\, and is dedicated to using only the finest botanical ingredients\, ensuring that every product offered is as safe and beneficial as it is beautiful and aromatic.&nbsp\;</span></p>\n
LOCATION:Ribbon Cutting will be held at: CR Hamilton Sports Complex 3700 W 13800 S\, Riverton\, UT
UID:e.1263.14883
SEQUENCE:3
DTSTAMP:20260420T000836Z
URL:https://business.southvalleychamber.com/events/details/ribbon-cutting-purple-duck-14883
END:VEVENT

END:VCALENDAR
