BEGIN:VCALENDAR
VERSION:2.0
PRODID:-//ChamberMaster//Event Calendar 2.0//EN
METHOD:PUBLISH
X-PUBLISHED-TTL:P3D
REFRESH-INTERVAL:P3D
CALSCALE:GREGORIAN
BEGIN:VEVENT
DTSTART:20250506T150000Z
DTEND:20250506T160000Z
X-MICROSOFT-CDO-ALLDAYEVENT:FALSE
SUMMARY:Ribbon Cutting - Raising Cane's Riverton
DESCRIPTION:Please join us for a Ribbon Cutting Celebration to welcome Raising Cane's to their newest location in Riverton on Tuesday\, May 6th at 9 AM.\n\n \nAbout Raising Cane's Riverton:\n\nServing only the most craveable chicken finger meals!  Quality you can count on - Cooked to order - Made fresh daily. Offering eight locations along the Wasatch Front - with three in the South Valley area - Sandy - South Jordan - and now in Riverton!
X-ALT-DESC;FMTTYPE=text/html:<span style="font-size: 16px\;"><span style="font-family: arial\;">Please join us for a Ribbon Cutting Celebration to welcome <b>Raising Cane&#39\;s&nbsp\;</b><strong>to</strong><b><strong>&nbsp\;</strong>their newest location in&nbsp\;</b>Riverton on <strong>Tuesday\, May 6th at 9 AM.</strong></span></span><br />\n&nbsp\;\n<p><strong style="font-family: arial\; font-size: 16px\;">About </strong><b style="font-family: arial\; font-size: 16px\;">Raising Cane&#39\;s Riverton</b><strong><strong style="font-family: arial\; font-size: 16px\;">:</strong></strong><br />\nServing&nbsp\;only the most craveable chicken finger meals! &nbsp\;Quality you can count on - Cooked to order - Made fresh daily. Offering eight locations along the Wasatch Front - with three in the South Valley area - Sandy - South Jordan - and now in Riverton!</p>\n
LOCATION:Raising Cane's - Located at 4026 West 13400 South in Riverton.
UID:e.1263.15171
SEQUENCE:3
DTSTAMP:20260423T025702Z
URL:https://business.southvalleychamber.com/events/details/ribbon-cutting-raising-cane-s-riverton-15171
END:VEVENT

END:VCALENDAR
