BEGIN:VCALENDAR
VERSION:2.0
PRODID:-//ChamberMaster//Event Calendar 2.0//EN
METHOD:PUBLISH
X-PUBLISHED-TTL:P3D
REFRESH-INTERVAL:P3D
CALSCALE:GREGORIAN
BEGIN:VEVENT
DTSTART:20250515T190000Z
DTEND:20250515T200000Z
X-MICROSOFT-CDO-ALLDAYEVENT:FALSE
SUMMARY:Ribbon Cutting - Rhea Salon Suites
DESCRIPTION:Please join us for a Ribbon Cutting to celebrate the opening of Rhea Salon Suites in Draper on Thursday\, May 15th at 1 PM.\n\n \nAbout Rhea Salon Suites Draper:\n\nRhea Salon Suites provides modern\, private salon spaces for beauty professionals. Our facility is designed to help you build and grow your business with the perfect blend of independence and support.
X-ALT-DESC;FMTTYPE=text/html:<span style="font-size: 16px\;"><span style="font-family: arial\;">Please join us for a Ribbon Cutting to celebrate the opening of&nbsp\;<b>Rhea Salon Suites&nbsp\;</b><strong>in&nbsp\;Draper&nbsp\;</strong>on <strong>Thursday\, May 15th at 1 PM.</strong></span></span><br />\n&nbsp\;\n<p><strong style="font-family: arial\; font-size: 16px\;">About </strong><b style="font-family: arial\; font-size: 16px\;">Rhea Salon Suites Draper</b><strong><strong style="font-family: arial\; font-size: 16px\;">:</strong></strong><br />\n<span style="font-size:16px\;"><span style="font-family:arial\;">Rhea Salon Suites provides modern\, private salon spaces for beauty professionals. Our facility is designed to help you build and grow your business with the perfect blend of independence and support.</span></span></p>\n
LOCATION:Rhea Salon Suites - 282 East 12200 South Suite 200 in Draper
UID:e.1263.15214
SEQUENCE:3
DTSTAMP:20260423T025604Z
URL:https://business.southvalleychamber.com/events/details/ribbon-cutting-rhea-salon-suites-15214
END:VEVENT

END:VCALENDAR
