BEGIN:VCALENDAR
VERSION:2.0
PRODID:-//ChamberMaster//Event Calendar 2.0//EN
METHOD:PUBLISH
X-PUBLISHED-TTL:P3D
REFRESH-INTERVAL:P3D
CALSCALE:GREGORIAN
BEGIN:VEVENT
DTSTART:20250520T224500Z
DTEND:20250520T231500Z
X-MICROSOFT-CDO-ALLDAYEVENT:FALSE
SUMMARY:Ribbon Cutting - Salt Lake Bees Team Store
DESCRIPTION:Please join the Larry H. Miller Sports + Entertainment and Larry H. Miller Companies for a Ribbon Cutting Celebration to mark the opening of the new Salt Lake Bees Team Store at the Ballpark at America First Square in Downtown Daybreak. Please meet at the Center Field Entrance to The Ballpark at 4:45 PM.\n\n\n\nIf you wish to stay for the game\, tickets are available HERE or at slbees.com.\n\nPlay Ball!
X-ALT-DESC;FMTTYPE=text/html:<p><span style="font-size:16px\;"><span style="font-family:arial\;">Please join the&nbsp\;<strong>Larry H. Miller Sports + Entertainment&nbsp\;and Larry H. Miller Companies for a Ribbon Cutting Celebration to mark the opening of&nbsp\;the&nbsp\;new Salt Lake Bees Team Store at the Ballpark at America First Square in Downtown Daybreak</strong>.&nbsp\;</span></span><span style="font-family: arial\; font-size: 16px\;">Please meet at the Center Field Entrance to The Ballpark at 4:45 PM.</span><br />\n<br />\n<span style="font-size:16px\;"><span style="font-family:arial\;">If you wish to stay for the game\, tickets are available <a href="https://www.milb.com/salt-lake/tickets/single-game-tickets?utm_campaign=2025&amp\;utm_medium=paidsearch&amp\;utm_source=adwords&amp\;utm_content=2025&amp\;gad_source=1&amp\;gad_campaignid=16855671762&amp\;gbraid=0AAAAAoiUmQuhy0MtIhHYZzwu0o3DOPBMv&amp\;gclid=CjwKCAjwuIbBBhBvEiwAsNypvYYbIfNwqS8tZK3JdiuGfJ6g20YCf0ep1VdGPoAryhh8BN4WKSlQRRoCQeAQAvD_BwE">HERE</a>&nbsp\;or at slbees.com.<br />\nPlay Ball!&nbsp\;</span></span></p>\n
LOCATION:The Ballpark at America First Square | 11111 South Ballpark Drive in South Jordan.
UID:e.1263.15215
SEQUENCE:3
DTSTAMP:20260423T013001Z
URL:https://business.southvalleychamber.com/events/details/ribbon-cutting-salt-lake-bees-team-store-15215
END:VEVENT

END:VCALENDAR
