BEGIN:VCALENDAR
VERSION:2.0
PRODID:-//ChamberMaster//Event Calendar 2.0//EN
METHOD:PUBLISH
X-PUBLISHED-TTL:P3D
REFRESH-INTERVAL:P3D
CALSCALE:GREGORIAN
BEGIN:VEVENT
DTSTART:20250507T233000Z
DTEND:20250508T003000Z
X-MICROSOFT-CDO-ALLDAYEVENT:FALSE
SUMMARY:Ribbon Cutting - Snelgrove Ice Cream
DESCRIPTION:Please join us for a Ribbon Cutting Celebration to welcome Snelgrove Ice Cream to their newest location in Sandy on Wednesday\, May 7th at 5:30 PM.\n\n \nAbout Snelgrove Ice Cream:\n\nFor 95 years\, our family has been perfecting slow-churned\, super-premium ice cream that makes you savor every moment. With each scoop\, we invite you to indulge\, share joy\, and celebrate life's sweetest pleasures!\n\n \n\nFrom our family to yours welcome back to Snelgrove Ice Cream! We're thrilled to share this cherished legacy with new generations and old friends alike. Each scoop is crafted with the same dedication to quality and joy that Charles Snelgrove first envisioned. Whether you're stopping by our new locations or picking up a pint at your local grocery store\, we invite you to gather\, celebrate\, and savor life's sweetest moments with us. Here's to making new memories\, together. Enjoy!
X-ALT-DESC;FMTTYPE=text/html:<span style="font-size: 16px\;"><span style="font-family: arial\;">Please join us for a Ribbon Cutting Celebration to welcome <b>Snelgrove </b>I<strong>ce Cream&nbsp\;to&nbsp\;their newest location in&nbsp\;Sandy&nbsp\;on Wednesday\, May 7th at 5:30 PM.</strong></span></span><br />\n&nbsp\;\n<p><strong style="font-family: arial\; font-size: 16px\;">About </strong><b style="font-family: arial\; font-size: 16px\;">Snelgrove Ice Cream</b><strong><strong style="font-family: arial\; font-size: 16px\;">:</strong></strong><br />\n<span style="font-size:16px\;"><span style="font-family:arial\;">For 95 years\, our family has been perfecting slow-churned\, super-premium ice cream that makes you savor every moment. With each scoop\, we invite you to indulge\, share joy\, and celebrate life&rsquo\;s sweetest pleasures!<br />\n&nbsp\;<br />\nFrom our family to yours&mdash\;welcome back to Snelgrove Ice Cream! We&rsquo\;re thrilled to share this cherished legacy with new generations and old friends alike. Each scoop is crafted with the same dedication to quality and joy that Charles Snelgrove first envisioned. Whether you&rsquo\;re stopping by our new locations or picking up a pint at your local grocery store\, we invite you to gather\, celebrate\, and savor life&rsquo\;s sweetest moments with us. Here&rsquo\;s to making new memories\, together. Enjoy!</span></span></p>\n
LOCATION:Snelgrove Ice Cream - Located at 1922 East 9400 South in Sandy.
UID:e.1263.15205
SEQUENCE:3
DTSTAMP:20260423T013002Z
URL:https://business.southvalleychamber.com/events/details/ribbon-cutting-snelgrove-ice-cream-15205
END:VEVENT

END:VCALENDAR
