BEGIN:VCALENDAR
VERSION:2.0
PRODID:-//ChamberMaster//Event Calendar 2.0//EN
METHOD:PUBLISH
X-PUBLISHED-TTL:P3D
REFRESH-INTERVAL:P3D
CALSCALE:GREGORIAN
BEGIN:VEVENT
DTSTART:20240330T160000Z
DTEND:20240330T170000Z
X-MICROSOFT-CDO-ALLDAYEVENT:FALSE
SUMMARY:Riverton City Bunny Hop 2024
DESCRIPTION:Come enjoy an Easter tradition with the kiddos at the Riverton Bunny Hop! Families make their way around Riverton City Park visiting stations to get candy or prizes and to participate in fun Easter activities. The Easter Bunny will be in attendance for a quick visit and photo with the kids.\n\nFamilies may arrive anytime between 10 a.m. and 11 a.m. and begin their participation at any station.\n\nWhen: Saturday\, March 30\, 2024\n\nWhere: Riverton City Park\, 1452 W 12600 S\, Riverton\, Utah 84065 | MAP IT\n\nTime: 10 a.m. - 11 a.m.\n\nAges: 12 & younger
X-ALT-DESC;FMTTYPE=text/html:<p style="box-sizing: border-box\; margin: 0in 0in 22.5pt\; color: rgb(99\, 113\, 122)\; font-family: Poppins\, sans-serif\; font-size: 15px\; background-image: initial\; background-position: initial\; background-size: initial\; background-repeat: initial\; background-attachment: initial\; background-origin: initial\; background-clip: initial\;"><span style="font-size:16px\;"><span style="font-family:arial\;"><span style="box-sizing: border-box\; color: rgb(0\, 0\, 0)\;">Come enjoy an Easter tradition with the kiddos at the Riverton Bunny Hop! Families make their way around Riverton City Park visiting stations to get candy or prizes and to participate in fun Easter activities. The Easter Bunny will be in attendance for a quick visit and photo with the kids.</span></span></span></p>\n\n<p style="box-sizing: border-box\; margin: 0in 0in 22.5pt\; color: rgb(99\, 113\, 122)\; font-family: Poppins\, sans-serif\; font-size: 15px\; background-image: initial\; background-position: initial\; background-size: initial\; background-repeat: initial\; background-attachment: initial\; background-origin: initial\; background-clip: initial\;"><span style="font-size:16px\;"><span style="font-family:arial\;"><span style="box-sizing: border-box\; color: rgb(0\, 0\, 0)\;">Families may arrive anytime between 10 a.m. and 11 a.m. and begin their participation at any station.</span></span></span></p>\n\n<div style="box-sizing: border-box\; color: rgb(99\, 113\, 122)\; font-family: Poppins\, sans-serif\; font-size: 15px\;"><span style="font-size:16px\;"><span style="font-family:arial\;"><span style="box-sizing: border-box\; color: rgb(0\, 0\, 0)\;"><strong style="box-sizing: border-box\;">When</strong>: Saturday\, March 30\, 2024</span><br style="box-sizing: border-box\;" />\n<span style="box-sizing: border-box\; color: rgb(0\, 0\, 0)\;"><strong style="box-sizing: border-box\;">Where</strong>: Riverton City Park\, 1452 W 12600 S\, Riverton\, Utah 84065 |&nbsp\;</span><a href="https://goo.gl/maps/RvazXQobTdce1EpR6" style="box-sizing: border-box\; background-color: transparent\; color: rgb(51\, 122\, 183)\; transition: background 0.3s ease 0s\;" target="_blank">MAP IT</a><br style="box-sizing: border-box\;" />\n<span style="box-sizing: border-box\; color: rgb(0\, 0\, 0)\;"><strong style="box-sizing: border-box\;">Time</strong>: 10 a.m. - 11 a.m.</span><br style="box-sizing: border-box\;" />\n<span style="box-sizing: border-box\; color: rgb(0\, 0\, 0)\;"><strong style="box-sizing: border-box\;">Ages</strong>: 12 &amp\; younger</span></span></span></div>\n
LOCATION:Where: Riverton City Park\, 1452 W 12600 S\, Riverton\, Utah 84065
UID:e.1263.14758
SEQUENCE:3
DTSTAMP:20260420T113018Z
URL:https://business.southvalleychamber.com/events/details/riverton-city-bunny-hop-2024-14758
END:VEVENT

END:VCALENDAR
