BEGIN:VCALENDAR
VERSION:2.0
PRODID:-//ChamberMaster//Event Calendar 2.0//EN
METHOD:PUBLISH
X-PUBLISHED-TTL:P3D
REFRESH-INTERVAL:P3D
CALSCALE:GREGORIAN
BEGIN:VEVENT
DTSTART:20250526T183000Z
DTEND:20250526T193000Z
X-MICROSOFT-CDO-ALLDAYEVENT:FALSE
SUMMARY:Riverton City's Memorial Day Program 2025
DESCRIPTION:All are invited to attend Riverton's annual Memorial Day Program\, held every year on the last Monday in May. This cherished event\, a tradition for many families\, is hosted by the American Legion Post #140 and features a heartfelt patriotic tribute. The program includes an honor guard ceremony\, a 21-gun salute\, and the reading of names of veterans laid to rest in the Riverton City Cemetery. The program begins around 12:30 p.m. Bring your blankets or lawn chairs and gather with us for this meaningful community tradition.\nWhen: Monday\, May 26\, 2025\n\nTime: 12:30 p.m. (start time is approximate)\n\nLocation: Riverton City Cemetery\, 1540 W 13200 S\, Riverton\, Utah 84065
X-ALT-DESC;FMTTYPE=text/html:<p style="box-sizing: border-box\; margin: 0px 0px 30px\; color: rgb(99\, 113\, 122)\; font-family: Poppins\, sans-serif\; font-size: 15px\;">All are invited to attend Riverton&#39\;s annual Memorial Day Program\, held every year on the last Monday in May. This cherished event\, a tradition for many families\, is hosted by the American Legion Post #140 and features a heartfelt patriotic tribute. The program includes an honor guard ceremony\, a 21-gun salute\, and the reading of names of veterans laid to rest in the Riverton City Cemetery. The program begins around 12:30 p.m.&nbsp\;<strong style="box-sizing: border-box\;">Bring your blankets or lawn chairs and gather with us for this meaningful community tradition.</strong></p>\n<strong style="box-sizing: border-box\; color: rgb(99\, 113\, 122)\; font-family: Poppins\, sans-serif\; font-size: 15px\;">When</strong><span style="color: rgb(99\, 113\, 122)\; font-family: Poppins\, sans-serif\; font-size: 15px\;">: Monday\, May 26\, 2025</span><br style="box-sizing: border-box\; color: rgb(99\, 113\, 122)\; font-family: Poppins\, sans-serif\; font-size: 15px\;" />\n<strong style="box-sizing: border-box\; color: rgb(99\, 113\, 122)\; font-family: Poppins\, sans-serif\; font-size: 15px\;">Time</strong><span style="color: rgb(99\, 113\, 122)\; font-family: Poppins\, sans-serif\; font-size: 15px\;">: 12:30 p.m. (start time is approximate)</span><br style="box-sizing: border-box\; color: rgb(99\, 113\, 122)\; font-family: Poppins\, sans-serif\; font-size: 15px\;" />\n<strong style="box-sizing: border-box\; color: rgb(99\, 113\, 122)\; font-family: Poppins\, sans-serif\; font-size: 15px\;">Location</strong><span style="color: rgb(99\, 113\, 122)\; font-family: Poppins\, sans-serif\; font-size: 15px\;">: Riverton City Cemetery\, 1540 W 13200 S\, Riverton\, Utah 84065</span>
LOCATION:Location: Riverton City Cemetery\, 1540 W 13200 S\, Riverton\, Utah 84065
UID:e.1263.15131
SEQUENCE:3
DTSTAMP:20260423T012604Z
URL:https://business.southvalleychamber.com/events/details/riverton-city-s-memorial-day-program-2025-15131
END:VEVENT

END:VCALENDAR
