BEGIN:VCALENDAR
VERSION:2.0
PRODID:-//ChamberMaster//Event Calendar 2.0//EN
METHOD:PUBLISH
X-PUBLISHED-TTL:P3D
REFRESH-INTERVAL:P3D
CALSCALE:GREGORIAN
BEGIN:VEVENT
DTSTART:20240330T180000Z
DTEND:20240330T220000Z
X-MICROSOFT-CDO-ALLDAYEVENT:FALSE
SUMMARY:Riverton City Teen Egg-streme Chase
DESCRIPTION:Teens ages 13-18 years old are invited to participate in Riverton's teen Easter scavenger hunt to win prizes. Clues will lead teens to safe local destinations or landmarks throughout our city boundaries. Only those who register will be able to redeem prizes.\n\n\n\nClues will be released on Friday\, March 29\, 2024 to participants at Noon. Teens will have until 4 p.m. that day to return to the Recreation Department at Riverton City Hall with all the specifically marked eggs. Grand prizes will be randomly drawn from all finished cards.\n\n\n\nIt's free to participate\, but registration is required. (Prize amounts will not be increased for those completing the challenge in a group.)\n\n\nWhen: Friday\, March 29\, 2024\n\nTime: Noon - 4 p.m.\n\nAges: 13-18 years old
X-ALT-DESC;FMTTYPE=text/html:<div style="box-sizing: border-box\; color: rgb(99\, 113\, 122)\; font-family: Poppins\, sans-serif\; font-size: 15px\;">\n<p style="box-sizing: border-box\; margin: 0px 0px 30px\;"><span style="font-size:16px\;"><span style="font-family:arial\;">Teens ages 13-18 years old are invited to participate in Riverton&rsquo\;s teen Easter scavenger hunt to win prizes. Clues will lead teens to safe local destinations or landmarks throughout our city boundaries. Only those who register will be able to redeem prizes.<br style="box-sizing: border-box\;" />\n<br style="box-sizing: border-box\;" />\nClues will be released on Friday\, March 29\, 2024 to participants at Noon. Teens will have until 4 p.m. that day to return to the Recreation Department at Riverton City Hall with all the specifically marked eggs. Grand prizes will be randomly drawn from all finished cards.<br style="box-sizing: border-box\;" />\n<br style="box-sizing: border-box\;" />\nIt&#39\;s free to participate\, but registration is required.&nbsp\;<em style="box-sizing: border-box\;">(Prize amounts will not be increased for those completing the challenge in a group.)</em></span></span></p>\n</div>\n\n<p style="box-sizing: border-box\; margin: 0px 0px 30px\; color: rgb(99\, 113\, 122)\; font-family: Poppins\, sans-serif\; font-size: 15px\;"><span style="font-size:16px\;"><span style="font-family:arial\;"><strong style="box-sizing: border-box\;">When</strong>: Friday\, March 29\, 2024<br style="box-sizing: border-box\;" />\n<strong style="box-sizing: border-box\;">Time</strong>: Noon - 4 p.m.<br style="box-sizing: border-box\;" />\n<strong style="box-sizing: border-box\;">Ages</strong>: 13-18 years old</span></span></p>\n
LOCATION:
UID:e.1263.14759
SEQUENCE:3
DTSTAMP:20260420T113136Z
URL:https://business.southvalleychamber.com/events/details/riverton-city-teen-egg-streme-chase-14759
END:VEVENT

END:VCALENDAR
