BEGIN:VCALENDAR
VERSION:2.0
PRODID:-//ChamberMaster//Event Calendar 2.0//EN
METHOD:PUBLISH
X-PUBLISHED-TTL:P3D
REFRESH-INTERVAL:P3D
CALSCALE:GREGORIAN
BEGIN:VEVENT
DTSTART:20240618T210000Z
DTEND:20240618T213000Z
X-MICROSOFT-CDO-ALLDAYEVENT:FALSE
SUMMARY:SEO Werkz Ribbon Cutting
DESCRIPTION:Please join us at SEO Werkz on Tuesday\, June 18th at 3:00 pm in Riverton for a ribbon cutting and launch party to celebrate their rebranding!\n\n\n\nAbout SEO Werkz:\nSEO Werkz is a full-service Internet marketing and Search Engine Optimization (SEO) services company offering results-driven services and exceptional customer support. Their web marketing services include Social Media\, Link Building\, Local Search\, PPC\, Content Creation\, Web Design\, and Retargeting.
X-ALT-DESC;FMTTYPE=text/html:<span style="font-size:16px\;"><span style="font-family:arial\;">Please join us at&nbsp\;</span></span><strong style="font-family: arial\; font-size: 16px\;">SEO Werkz</strong><span style="font-size:16px\;"><span style="font-family:arial\;">&nbsp\;on <strong>Tuesday\, June 18th at 3:00 pm</strong> in Riverton for a ribbon cutting and launch party to celebrate their rebranding!<br />\n<br />\n<strong>About SEO Werkz:</strong></span></span>\n<p data-aos="fade-up"><span style="font-size:16px\;"><span style="font-family:arial\;">SEO Werkz is a full-service Internet marketing and Search Engine Optimization (SEO) services company offering results-driven services and exceptional customer support. Their web marketing services include Social Media\, Link Building\, Local Search\, PPC\, Content Creation\, Web Design\, and Retargeting.</span></span></p>\n
LOCATION:SEO Werkz 4168 West 12600 South in Riverton
UID:e.1263.14812
SEQUENCE:3
DTSTAMP:20260420T063352Z
URL:https://business.southvalleychamber.com/events/details/seo-werkz-ribbon-cutting-14812
END:VEVENT

END:VCALENDAR
