BEGIN:VCALENDAR
VERSION:2.0
PRODID:-//ChamberMaster//Event Calendar 2.0//EN
METHOD:PUBLISH
X-PUBLISHED-TTL:P3D
REFRESH-INTERVAL:P3D
CALSCALE:GREGORIAN
BEGIN:VEVENT
DTSTART:20240315T170000Z
DTEND:20240315T190000Z
X-MICROSOFT-CDO-ALLDAYEVENT:FALSE
SUMMARY:Solo Solutions Open House!
DESCRIPTION:Hi Everyone!\n\nSolo Solutions is celebrating our 2 year anniversary! Please come join us at our open house\, we will be raffling off some gifts and hope to get to know more chamber members!
X-ALT-DESC;FMTTYPE=text/html:Hi Everyone!<br />\nSolo Solutions is celebrating our 2 year anniversary! Please come join us at our open house\, we will be raffling off some gifts and hope to get to know more chamber members!&nbsp\;
LOCATION:247 Millpond Dr Suite #701 Lehi\, UT. 84043
UID:e.1263.14481
SEQUENCE:3
DTSTAMP:20260420T125910Z
URL:https://business.southvalleychamber.com/events/details/solo-solutions-open-house-14481
END:VEVENT

END:VCALENDAR
