BEGIN:VCALENDAR
VERSION:2.0
PRODID:-//ChamberMaster//Event Calendar 2.0//EN
METHOD:PUBLISH
X-PUBLISHED-TTL:P3D
REFRESH-INTERVAL:P3D
CALSCALE:GREGORIAN
BEGIN:VEVENT
DTSTART:20240330T150000Z
DTEND:20240330T170000Z
X-MICROSOFT-CDO-ALLDAYEVENT:FALSE
SUMMARY:South Jordan City Spring Spectacular Event 2024
DESCRIPTION:Join us as we celebrate spring with our annual "Spring Spectacular" event\, a family-friendly extravaganza! This event is entirely free to the public and promises a morning packed with excitement and fun. Witness the high-flying antics of a professional basketball dunk team\, experience the joy of a baby animal petting zoo\, and enjoy interactive live music from Doctor Noize that will keep your toes tapping. Don't miss the chance to meet and greet the Easter Bunny   a perfect photo opportunity for kids and families. Participate in our thrilling candy scramble for ages 1-12\, and try your luck in the plant raffle\, where beautiful flora awaits lucky winners. It's a spring celebration not to be missed!\n\nDate: Saturday\, March 30\, 2024\n\nLocation: South Jordan Softball Fields | 10800 S. Redwood Road\n\n9:00 - 11:00 am: Baby Animals\, Live Music\, Plant Raffle\, Entertainment\n\n10:00 am sharp: Candy Scramble\n\nAge groups for children 1 - 12 years old.\n\nAdaptive Area \n\nFor people of any age with special and/or adaptive needs\, and their siblings.\n\nAdaptions include:\n\n\n	Area away from main event\n	\n		Helps reduce sound\n		Reduced crowd\n	\n	\n	Wheel chair friendly\n	\n		Large concrete pathway down the middle of area\n		Candy and prizes on tables\, bleachers\, and grass
X-ALT-DESC;FMTTYPE=text/html:<p style="box-sizing: border-box\; margin-top: 0px\; margin-bottom: 1.4em\; border: 0px none\; color: rgb(20\, 20\, 12)\; font-family: Arial\; font-size: 15.2px\;">Join us as we celebrate spring with our annual &ldquo\;Spring Spectacular&rdquo\; event\, a family-friendly extravaganza! This event is entirely free to the public and promises a morning packed with excitement and fun. Witness the high-flying antics of a professional basketball dunk team\, experience the joy of a baby animal petting zoo\, and enjoy interactive live music from Doctor Noize that will keep your toes tapping. Don&rsquo\;t miss the chance to meet and greet the Easter Bunny &ndash\; a perfect photo opportunity for kids and families. Participate in our thrilling candy scramble for ages 1-12\, and try your luck in the plant raffle\, where beautiful flora awaits lucky winners. It&rsquo\;s a spring celebration not to be missed!</p>\n\n<p style="box-sizing: border-box\; margin-top: 0px\; margin-bottom: 1.4em\; border: 0px none\; color: rgb(20\, 20\, 12)\; font-family: Arial\; font-size: 15.2px\;"><span style="box-sizing: border-box\; font-weight: 700\;">Date:</span>&nbsp\;Saturday\, March 30\, 2024<br style="box-sizing: border-box\;" />\n<span style="box-sizing: border-box\; font-weight: 700\;">Location:</span>&nbsp\;South Jordan Softball Fields | 10800 S. Redwood Road<br style="box-sizing: border-box\;" />\n<span style="box-sizing: border-box\; font-weight: 700\;">9:00 - 11:00 am:</span>&nbsp\;Baby Animals\, Live Music\, Plant Raffle\, Entertainment<br style="box-sizing: border-box\;" />\n<span style="box-sizing: border-box\; font-weight: 700\;">10:00 am sharp:</span>&nbsp\;Candy Scramble</p>\n\n<p style="box-sizing: border-box\; margin-top: 0px\; margin-bottom: 1.4em\; border: 0px none\; color: rgb(20\, 20\, 12)\; font-family: Arial\; font-size: 15.2px\;"><span style="box-sizing: border-box\; font-weight: 700\;">Age groups for children 1 - 12 years old.</span></p>\n\n<h2 class="subhead1" style="box-sizing: border-box\; margin-top: 0.167em\; margin-bottom: 0px\; border: 0px none\; font-family: Lato\; font-weight: 700\; color: rgb(62\, 75\, 83)\; font-size: 1.3em\;">Adaptive Area&nbsp\;</h2>\n\n<p style="box-sizing: border-box\; margin-top: 0px\; margin-bottom: 1.4em\; border: 0px none\; color: rgb(20\, 20\, 12)\; font-family: Arial\; font-size: 15.2px\;">For people of any age with special and/or adaptive needs\, and their siblings.</p>\n\n<p style="box-sizing: border-box\; margin-top: 0px\; margin-bottom: 1.4em\; border: 0px none\; color: rgb(20\, 20\, 12)\; font-family: Arial\; font-size: 15.2px\; margin-left: 20px\;"><span style="box-sizing: border-box\; font-weight: 700\;">Adaptions include:</span></p>\n\n<ul style="box-sizing: border-box\; margin: 1em 0px 1.4em 20px\; padding-right: 0px\; padding-left: 2em\; font-family: Arial\; color: rgb(20\, 20\, 12)\; line-height: 1.5\; border: 0px none\; font-size: 15.2px\;">\n	<li style="box-sizing: border-box\; margin-bottom: 0.35em\; border: 0px none\;">Area away from main event\n	<ul style="box-sizing: border-box\; margin: 1em 0px 1.4em\; padding-right: 0px\; padding-left: 2em\; line-height: 1.5\; border: 0px none\; width: inherit\;">\n		<li style="box-sizing: border-box\; margin-bottom: 0.35em\; border: 0px none\;">Helps reduce sound</li>\n		<li style="box-sizing: border-box\; margin-bottom: 0.35em\; border: 0px none\;">Reduced crowd</li>\n	</ul>\n	</li>\n	<li style="box-sizing: border-box\; margin-bottom: 0.35em\; border: 0px none\;">Wheel chair friendly\n	<ul style="box-sizing: border-box\; margin: 1em 0px 1.4em\; padding-right: 0px\; padding-left: 2em\; line-height: 1.5\; border: 0px none\; width: inherit\;">\n		<li style="box-sizing: border-box\; margin-bottom: 0.35em\; border: 0px none\;">Large concrete pathway down the middle of area</li>\n		<li style="box-sizing: border-box\; margin-bottom: 0.35em\; border: 0px none\;">Candy and prizes on tables\, bleachers\, and grass\n		<p style="box-sizing: border-box\; margin-top: 0px\; margin-bottom: 1.4em\; border: 0px none\;">&nbsp\;</p>\n		</li>\n	</ul>\n	</li>\n</ul>\n
LOCATION:Location: South Jordan Softball Fields | 10800 S. Redwood Road
UID:e.1263.14770
SEQUENCE:3
DTSTAMP:20260420T113049Z
URL:https://business.southvalleychamber.com/events/details/south-jordan-city-spring-spectacular-event-2024-14770
END:VEVENT

END:VCALENDAR
