BEGIN:VCALENDAR
VERSION:2.0
PRODID:-//ChamberMaster//Event Calendar 2.0//EN
METHOD:PUBLISH
X-PUBLISHED-TTL:P3D
REFRESH-INTERVAL:P3D
CALSCALE:GREGORIAN
BEGIN:VEVENT
DTSTART:20240613T143000Z
DTEND:20240613T160000Z
X-MICROSOFT-CDO-ALLDAYEVENT:FALSE
SUMMARY:South Valley Chamber 101
DESCRIPTION:The South Valley Chamber 101 is designed to give prospective\, new\, and existing  members  a deep dive into chamber benefits\, events and everything else the chamber does to help your business grow! This event also provides an intimate networking opportunity as we limit each event to just 20 attendees.\n\n\n\nTake advantage of this intro to the Chamber\, making sure you are maximizing your membership! Breakfast is served and we ask that you please bring your laptop as the last 15 minutes will be spent navigating your member portal through ChamberMaster. This event is free\, however registration is required.
X-ALT-DESC;FMTTYPE=text/html:<div><span style="font-size:16px\;"><span style="font-family:arial\;"><span style="color: rgb(27\, 27\, 27)\; text-align: center\; background-color: rgb(255\, 255\, 255)\;">The South Valley Chamber 101 is designed to give prospective\, new\, and existing&nbsp\; members&nbsp\; a deep dive into chamber benefits\, events and everything else the chamber does to help your business grow!&nbsp\;This event also provides an intimate networking opportunity as we limit each event to just 20 attendees.<br />\n<br />\nTake advantage of this intro to the Chamber\, making sure you are maximizing your membership! Breakfast is served and we ask that you please bring your laptop as the last 15 minutes will be spent navigating your member portal through ChamberMaster. <strong>This event is free\, however registration is required.&nbsp\;</strong></span></span></span></div>\n
LOCATION:South Valley Chamber Office 9800 S Monroe Street 8th floor Board Room Sandy\, UT 84070
UID:e.1263.13563
SEQUENCE:3
DTSTAMP:20260420T063638Z
URL:https://business.southvalleychamber.com/events/details/south-valley-chamber-101-06-13-2024-13563
END:VEVENT

END:VCALENDAR
