BEGIN:VCALENDAR
VERSION:2.0
PRODID:-//ChamberMaster//Event Calendar 2.0//EN
METHOD:PUBLISH
X-PUBLISHED-TTL:P3D
REFRESH-INTERVAL:P3D
CALSCALE:GREGORIAN
BEGIN:VEVENT
DTSTART:20240326T150000Z
DTEND:20240326T170000Z
X-MICROSOFT-CDO-ALLDAYEVENT:FALSE
SUMMARY:SVC Business Accelerator - Sponsored by Key Bank
DESCRIPTION:Powered by our proven 10-course program\, the KeyBank Business Accelerator is just what business owners need to take their business to the next level.\n\n\n\nThis program is taught by Ralph Little. He was the founder and CEO of a nationwide financial services company. As an alum of Harvard Business School\, and as a member of the faculty at three Universities\, Mr. Little has taught courses in Business Management\, Entrepreneurship and Strategy. He now brings this experience to you!
X-ALT-DESC;FMTTYPE=text/html:<span style="font-family:arial\;"><span style="font-size:16px\;">Powered by our proven 10-course program\, the KeyBank Business Accelerator is just what business owners need to take their business to the next level.<br />\n<br />\nThis program is taught by Ralph Little. He was the founder and CEO of a nationwide financial services company. As an alum of Harvard Business School\, and as a member of the faculty at three Universities\, Mr. Little has taught courses in Business Management\, Entrepreneurship and Strategy. He now brings this experience to you!</span></span>
LOCATION:Salt Mine Productive Workspace 7984 South 1300 East Sandy\, UT 84094
UID:e.1263.13611
SEQUENCE:3
DTSTAMP:20260420T113309Z
URL:https://business.southvalleychamber.com/events/details/svc-business-accelerator-sponsored-by-key-bank-03-26-2024-13611
END:VEVENT

END:VCALENDAR
