BEGIN:VCALENDAR
VERSION:2.0
PRODID:-//ChamberMaster//Event Calendar 2.0//EN
METHOD:PUBLISH
X-PUBLISHED-TTL:P3D
REFRESH-INTERVAL:P3D
CALSCALE:GREGORIAN
BEGIN:VEVENT
DTSTART;VALUE=DATE:20250503
DTEND;VALUE=DATE:20250504
TRANSP:TRANSPARENT
X-MICROSOFT-CDO-ALLDAYEVENT:TRUE
SUMMARY:The Official Salt Lake Derby Party- 2nd Annual Event!
DESCRIPTION:Save the Date! The 2nd Annual Salt Lake Derby Party | Saturday\, May 3\,2025\n\n\nGet ready to don your finest hats\, sip on mint juleps\, and celebrate in grand Southern style! The 2nd Annual Salt Lake Derby Party is set to take place at the stunning La Caille on Saturday\, May 3\,2025.\n\nThis luxurious event will feature:\n\n\n	 Signature cocktails\n	 Live entertainment\n	 Elegant derby fashion\n	 Exciting games & more!\n\n\n Tickets are limited   Join the waitlist now to be the first to snag your spot for this unforgettable day of glamour and tradition.\n\nClick HERE to join the waitlist: www.slcderby.com\n\n Mark your calendars and stay tuned for more details!
X-ALT-DESC;FMTTYPE=text/html:<div><span style="font-size:16px"><span style="font-family:arial"><strong><span style="color:var(--tw-prose-bold)">Save the Date! The 2nd Annual Salt Lake Derby Party</span>&nbsp\;|&nbsp\;</strong></span></span><strong style="font-family: arial\; font-size: 16px\;">Saturday\,&nbsp\;<span style="color: var(--tw-prose-bold)\;">May 3\,2025</span></strong></div>\n\n<div>\n<p><span style="font-size:16px"><span style="font-family:arial">Get ready to don your finest hats\, sip on mint juleps\, and celebrate in grand Southern style! The&nbsp\;<span style="color:var(--tw-prose-bold)">2nd Annual Salt Lake Derby Party</span>&nbsp\;is set to take place at the stunning&nbsp\;<strong><span style="color:var(--tw-prose-bold)">La Caille</span>&nbsp\;on Saturday\,&nbsp\;<span style="color:var(--tw-prose-bold)">May 3\,2025</span></strong>.</span></span></p>\n\n<p><span style="font-size:16px"><span style="font-family:arial">This luxurious event will feature:</span></span></p>\n\n<ul>\n	<li><span style="font-size:16px"><span style="font-family:arial">&nbsp\;Signature cocktails</span></span></li>\n	<li><span style="font-size:16px"><span style="font-family:arial">&nbsp\;Live entertainment</span></span></li>\n	<li><span style="font-size:16px"><span style="font-family:arial">&nbsp\;Elegant derby fashion</span></span></li>\n	<li><span style="font-size:16px"><span style="font-family:arial">&nbsp\;Exciting games &amp\; more!</span></span></li>\n</ul>\n\n<p><span style="font-size:16px"><span style="font-family:arial">&nbsp\;<span style="color:var(--tw-prose-bold)">Tickets are limited</span>&nbsp\;&ndash\; Join the waitlist now to be the first to snag your spot for this unforgettable day of glamour and tradition.</span></span></p>\n\n<p><strong><span style="font-size:16px"><span style="font-family:arial">Click <a href="https://slcderby.com/">HERE</a> to join the waitlist: www.slcderby.com</span></span></strong></p>\n\n<p><span style="font-size:16px"><span style="font-family:arial">&nbsp\;Mark your calendars and stay tuned for more details!</span></span></p>\n</div>\n
LOCATION:La Caille | 9565 Wasatch Blvd\, Sandy\, UT 84092
UID:e.1263.14909
SEQUENCE:3
DTSTAMP:20260423T013126Z
URL:https://business.southvalleychamber.com/events/details/the-official-salt-lake-derby-party-2nd-annual-event-14909
END:VEVENT

END:VCALENDAR
