BEGIN:VCALENDAR
VERSION:2.0
PRODID:-//ChamberMaster//Event Calendar 2.0//EN
METHOD:PUBLISH
X-PUBLISHED-TTL:P3D
REFRESH-INTERVAL:P3D
CALSCALE:GREGORIAN
BEGIN:VEVENT
DTSTART:20250503T170000Z
DTEND:20250503T190000Z
X-MICROSOFT-CDO-ALLDAYEVENT:FALSE
SUMMARY:The Shops at South Town: Brunch\, Bubbles & Blooms
DESCRIPTION:BRUNCH\, BUBBLES & BLOOMS\n\nat The Shops at South Town    \n\nSaturday\, May 3 11am-1pm\n\n\n\nA MOTHER'S DAY CELEBRATION\n\nFLORAL ARRANGING \n\nBRUNCH\n\nMIMOSAS & MOCKTAILS\n\n\n\nInvite your best Mom squad and mark your calendars! This is a fabulous event celebrating motherhood\, friendship and community! Tickets are available now. Use code SANDYFAM at checkout for a special discount. \n\n\n\nWe can't wait to sip\, celebrate\, and make beautiful blooms with you!
X-ALT-DESC;FMTTYPE=text/html:<span style="font-size:16px\;"><span style="font-family:arial\;"><strong>BRUNCH\, BUBBLES &amp\; BLOOMS</strong><br />\nat The Shops at South Town&nbsp\; &nbsp\;&nbsp\;<br />\nSaturday\, May 3 11am-1pm<br />\n<br />\n<u><strong>A MOTHER&#39\;S DAY CELEBRATION</strong></u><br />\nFLORAL ARRANGING&nbsp\;<br />\nBRUNCH<br />\nMIMOSAS &amp\; MOCKTAILS<br />\n<br />\nInvite your best Mom squad and mark your calendars! This is a fabulous event celebrating motherhood\, friendship and community! Tickets are available now. Use code SANDYFAM at checkout for a special discount.&nbsp\;<br />\n<br />\nWe can&#39\;t wait to sip\, celebrate\, and make beautiful blooms with you!</span></span>
LOCATION:The Shops at South Town | Dining Terrace 10450 S. State St.\, Sandy Utah 84070
UID:e.1263.15204
SEQUENCE:3
DTSTAMP:20260423T030359Z
URL:https://business.southvalleychamber.com/events/details/the-shops-at-south-town-brunch-bubbles-blooms-15204
END:VEVENT

END:VCALENDAR
